BEGIN:VCALENDAR
PRODID:NingEventWidget-v1
VERSION:2.0
METHOD:PUBLISH
BEGIN:VTIMEZONE
TZID:Europe/Paris
X-LIC-LOCATION:Europe/Paris
BEGIN:DAYLIGHT
TZOFFSETFROM:+0100
TZOFFSETTO:+0200
TZNAME:CEST
DTSTART:19700329T020000
RRULE:FREQ=YEARLY;BYMONTH=3;BYDAY=-1SU
END:DAYLIGHT
BEGIN:STANDARD
TZOFFSETFROM:+0200
TZOFFSETTO:+0100
TZNAME:CET
DTSTART:19701025T030000
RRULE:FREQ=YEARLY;BYMONTH=10;BYDAY=-1SU
END:STANDARD
END:VTIMEZONE
BEGIN:VEVENT
UID:2485226:Event:2588252
DTSTAMP:20260422T222321Z
SUMMARY:Congrès de Sophrologie à Paris
DESCRIPTION:La Société Française de Sophrologie organise les 3 et 4
  décembre 2016 son congrès annuel. Cette année le thème est \"Corp
 s - conscience - inconscient\", avec la participation de Guy Corneau.\
 nCes deux journées seront l'occasion d'échanger avec des sophrologue
 s, thérapeutes, médecins autour de la sophrologie et des méthodes p
 sycho-corporelles.\n\nPour plus d'information, aller sur https://epane
 ws.fr/events/congr-s-de-sophrologie-paris
DTSTART;TZID=Europe/Paris:20161203T090000
DTEND;TZID=Europe/Paris:20161204T170000
CATEGORIES:75
LOCATION:Faculté de médecine Paris Descartes
WEBSITE:
URL:
CONTACT:
ORGANIZER;CN=ChristineV:https://epanews.fr/profile/ChristineV
ATTACH;FMTTYPE="image/jpeg":
ATTENDEE;ROLE=REQ-PARTICIPANT;PARTSTAT=ACCEPTED;RSVP=TRUE;CN=Christine
 V:https://epanews.fr/profile/ChristineV
END:VEVENT
END:VCALENDAR
