BEGIN:VCALENDAR
PRODID:NingEventWidget-v1
VERSION:2.0
METHOD:PUBLISH
BEGIN:VTIMEZONE
TZID:Europe/Paris
X-LIC-LOCATION:Europe/Paris
BEGIN:DAYLIGHT
TZOFFSETFROM:+0100
TZOFFSETTO:+0200
TZNAME:CEST
DTSTART:19700329T020000
RRULE:FREQ=YEARLY;BYMONTH=3;BYDAY=-1SU
END:DAYLIGHT
BEGIN:STANDARD
TZOFFSETFROM:+0200
TZOFFSETTO:+0100
TZNAME:CET
DTSTART:19701025T030000
RRULE:FREQ=YEARLY;BYMONTH=10;BYDAY=-1SU
END:STANDARD
END:VTIMEZONE
BEGIN:VEVENT
UID:2485226:Event:12951
DTSTAMP:20260419T165459Z
SUMMARY:Conférence-Atelier  Communication-Non-Violente
DESCRIPTION:Découverte de la Communication-Non-Violente selon le proc
 essus de Marshall Rosenberg\n\navec Rédouane Saloul\n\nle matin 10h 1
 3h 10€\nl'après-midi 15h 17H 10€\n\nPour plus d'information, alle
 r sur https://epanews.fr/events/conferenceatelier-1
DTSTART;TZID=Europe/Paris:20090919T000000
DTEND;TZID=Europe/Paris:20090919T235900
CATEGORIES:30
LOCATION:atelier
WEBSITE:
URL:
CONTACT:06 22 42 17 92
ORGANIZER:Collectif des cc30
ATTACH;FMTTYPE="image/jpeg":http://storage.ning.com/topology/rest/1.0/
 file/get/1662277085?profile=original
ATTENDEE;ROLE=REQ-PARTICIPANT;PARTSTAT=ACCEPTED;RSVP=TRUE;CN="Rédouan
 e SALOUL":https://epanews.fr/profile/RedouaneSALOUL
ATTENDEE;ROLE=REQ-PARTICIPANT;PARTSTAT=ACCEPTED;RSVP=TRUE;CN="Marc Vio
 t":https://epanews.fr/profile/Viot
ATTENDEE;ROLE=REQ-PARTICIPANT;PARTSTAT=ACCEPTED;RSVP=TRUE;CN="Marie-Pi
 erre Carlier":https://epanews.fr/profile/CARLIER
ATTENDEE;ROLE=REQ-PARTICIPANT;PARTSTAT=TENTATIVE;RSVP=TRUE;CN="éric g
 auté":https://epanews.fr/profile/ericgaute
END:VEVENT
END:VCALENDAR
