BEGIN:VCALENDAR
PRODID:NingEventWidget-v1
VERSION:2.0
METHOD:PUBLISH
BEGIN:VTIMEZONE
TZID:Europe/Paris
X-LIC-LOCATION:Europe/Paris
BEGIN:DAYLIGHT
TZOFFSETFROM:+0100
TZOFFSETTO:+0200
TZNAME:CEST
DTSTART:19700329T020000
RRULE:FREQ=YEARLY;BYMONTH=3;BYDAY=-1SU
END:DAYLIGHT
BEGIN:STANDARD
TZOFFSETFROM:+0200
TZOFFSETTO:+0100
TZNAME:CET
DTSTART:19701025T030000
RRULE:FREQ=YEARLY;BYMONTH=10;BYDAY=-1SU
END:STANDARD
END:VTIMEZONE
BEGIN:VEVENT
UID:2485226:Event:2490365
DTSTAMP:20260421T235925Z
SUMMARY:conference : traverser les deuils dans nos vies avec les fleur
 s de bach, par Viviane
DESCRIPTION:Inscription obligatoire auprès de Source du bonheur au 04
  11 75 16 85 ou 06 77 16 31 11Participation 10 € + une consommation 
 à prendre sur place (sauf café)Animée par Viviane, conseillère en 
 Fleurs de Bach, agréée par Le centre Bach en AngleterreLa vie nous a
 mène régulièrement à faire des deuils : perte d’un être cher, f
 in d’une relation, d’une situation, déménagement, perte d'un emp
 loi,… Ces périodes, où une page se tourne pour ouvrir sur autre ch
 ose, nous sont parfois douloureuses.Venez découvrir comment les Fleur
 s de Bach peuvent vous accompagner durant ces périodes de transition 
 de votre vie.\n\nPour plus d'information, aller sur https://epanews.fr
 /events/conference-traverser-les-deuils-dans-nos-vies-avec-les-fleurs-
 de
DTSTART;TZID=Europe/Paris:20160119T190000
DTEND;TZID=Europe/Paris:20160119T200000
CATEGORIES:34
LOCATION:montpellier centre
WEBSITE:http://www.sourcedubonheur.fr
URL:http://www.sourcedubonheur.fr
CONTACT:0411751685
ORGANIZER;CN=sb34:https://epanews.fr/profile/sb34
ATTACH;FMTTYPE="image/jpeg":http://storage.ning.com/topology/rest/1.0/
 file/get/1663490573?profile=original
ATTENDEE;ROLE=REQ-PARTICIPANT;PARTSTAT=ACCEPTED;RSVP=TRUE;CN=sb34:http
 s://epanews.fr/profile/sb34
END:VEVENT
END:VCALENDAR
