BEGIN:VCALENDAR
PRODID:NingEventWidget-v1
VERSION:2.0
METHOD:PUBLISH
BEGIN:VTIMEZONE
TZID:Europe/Paris
X-LIC-LOCATION:Europe/Paris
BEGIN:DAYLIGHT
TZOFFSETFROM:+0100
TZOFFSETTO:+0200
TZNAME:CEST
DTSTART:19700329T020000
RRULE:FREQ=YEARLY;BYMONTH=3;BYDAY=-1SU
END:DAYLIGHT
BEGIN:STANDARD
TZOFFSETFROM:+0200
TZOFFSETTO:+0100
TZNAME:CET
DTSTART:19701025T030000
RRULE:FREQ=YEARLY;BYMONTH=10;BYDAY=-1SU
END:STANDARD
END:VTIMEZONE
BEGIN:VEVENT
UID:2485226:Event:1930042
DTSTAMP:20260421T155137Z
SUMMARY:Conference sur les conflits
DESCRIPTION:Qui a commencé ?\nQuels sont les moyens d’en sortir ?
 \nQue se joue-t-il dans les conflits que je rencontre dans ma vie pers
 onnelle ou professionnelle ?\nDevenez le chercheur des solutions pour
  régler vos conflits\nDécouvrons les tensions et les contradictions 
 qui nous font perdre beaucoup de temps et d’énergie.\n\nPour plus d
 'information, aller sur https://epanews.fr/events/conference-sur-les-c
 onflits
DTSTART;TZID=Europe/Paris:20140618T193000
DTEND;TZID=Europe/Paris:20140618T210000
CATEGORIES:34
LOCATION:Association Aide et Réussite à  6Rue  des terres du Sud JUV
 IGNAC
WEBSITE:
URL:
CONTACT:
ORGANIZER;CN=MASSATTITUD:https://epanews.fr/profile/MASSATTITUD
ATTACH;FMTTYPE="image/jpeg":
ATTENDEE;ROLE=REQ-PARTICIPANT;PARTSTAT=ACCEPTED;RSVP=TRUE;CN=MASSATTIT
 UD:https://epanews.fr/profile/MASSATTITUD
END:VEVENT
END:VCALENDAR
