BEGIN:VCALENDAR
PRODID:NingEventWidget-v1
VERSION:2.0
METHOD:PUBLISH
BEGIN:VTIMEZONE
TZID:Europe/Paris
X-LIC-LOCATION:Europe/Paris
BEGIN:DAYLIGHT
TZOFFSETFROM:+0100
TZOFFSETTO:+0200
TZNAME:CEST
DTSTART:19700329T020000
RRULE:FREQ=YEARLY;BYMONTH=3;BYDAY=-1SU
END:DAYLIGHT
BEGIN:STANDARD
TZOFFSETFROM:+0200
TZOFFSETTO:+0100
TZNAME:CET
DTSTART:19701025T030000
RRULE:FREQ=YEARLY;BYMONTH=10;BYDAY=-1SU
END:STANDARD
END:VTIMEZONE
BEGIN:VEVENT
UID:2485226:Event:1026010
DTSTAMP:20260424T013959Z
SUMMARY:Conference sur la Géobiologie
DESCRIPTION:Conférence avec Christelle sur la Géobiologie à Mamayay
 a à Nimes le samedi 24 novembre à 20h Qu 'est que la Géobiologie c'
  est l'étude ésotérique de l'ensemble des influences de l'environne
 ment sur le vivant, et notamment des ondes liées aux champs magnétiq
 ues et électriques, courants d'eau souterrains, réseaux dit \"géobi
 ologiques\", failles géologiques .Cette science permet de comprendre 
 les raisons et les inconforts de notre environnement Christelle, nous 
 proposera conseils et outils pour harmoniser son lieu de vie et tout c
 e qui nous entoure.... participation 10 euros , réservation demandée
  , place limitée au 06 20 34 54 99 OU mamayaya.org\n\nPour plus d'inf
 ormation, aller sur https://epanews.fr/events/conference-sur-la-g-obio
 logie
DTSTART;TZID=Europe/Paris:20121124T200000
DTEND;TZID=Europe/Paris:20121124T223000
CATEGORIES:30
LOCATION:Nimes
WEBSITE:http://lechantdesarbres.over-blog.com/
URL:http://lechantdesarbres.over-blog.com/
CONTACT:06 20 34 54 99
ORGANIZER;CN=Yaël:https://epanews.fr/profile/yael
ATTACH;FMTTYPE="image/jpeg":
ATTENDEE;ROLE=REQ-PARTICIPANT;PARTSTAT=ACCEPTED;RSVP=TRUE;CN=Yaël:htt
 ps://epanews.fr/profile/yael
END:VEVENT
END:VCALENDAR
