BEGIN:VCALENDAR
PRODID:NingEventWidget-v1
VERSION:2.0
METHOD:PUBLISH
BEGIN:VTIMEZONE
TZID:Europe/Paris
X-LIC-LOCATION:Europe/Paris
BEGIN:DAYLIGHT
TZOFFSETFROM:+0100
TZOFFSETTO:+0200
TZNAME:CEST
DTSTART:19700329T020000
RRULE:FREQ=YEARLY;BYMONTH=3;BYDAY=-1SU
END:DAYLIGHT
BEGIN:STANDARD
TZOFFSETFROM:+0200
TZOFFSETTO:+0100
TZNAME:CET
DTSTART:19701025T030000
RRULE:FREQ=YEARLY;BYMONTH=10;BYDAY=-1SU
END:STANDARD
END:VTIMEZONE
BEGIN:VEVENT
UID:2485226:Event:1886517
DTSTAMP:20260422T035416Z
SUMMARY:Conférence sur l'Energétique traditionnelle chinoise
DESCRIPTION:Conférence Découverte sur l'Energétique traditionnelle 
 chinoise ce 25 avril à 19h15. Entrée 10 euros avec une boisson non a
 lcoolisée offerte.\nInscription possible au 06 11 54 70 06 ou directe
 ment sur place\n\nPour plus d'information, aller sur https://epanews.f
 r/events/conference-sur-l-energetique-chinoise
DTSTART;TZID=Europe/Paris:20140425T191500
DTEND;TZID=Europe/Paris:20140425T210000
CATEGORIES:06
LOCATION:RESTAURANT COCOON KF
WEBSITE:
URL:
CONTACT:0611547006
ORGANIZER;CN=jguilhaume:https://epanews.fr/profile/jguilhaume
ATTACH;FMTTYPE="image/jpeg":
ATTENDEE;ROLE=REQ-PARTICIPANT;PARTSTAT=ACCEPTED;RSVP=TRUE;CN=jguilhaum
 e:https://epanews.fr/profile/jguilhaume
END:VEVENT
END:VCALENDAR
