BEGIN:VCALENDAR
PRODID:NingEventWidget-v1
VERSION:2.0
METHOD:PUBLISH
BEGIN:VTIMEZONE
TZID:Europe/Paris
X-LIC-LOCATION:Europe/Paris
BEGIN:DAYLIGHT
TZOFFSETFROM:+0100
TZOFFSETTO:+0200
TZNAME:CEST
DTSTART:19700329T020000
RRULE:FREQ=YEARLY;BYMONTH=3;BYDAY=-1SU
END:DAYLIGHT
BEGIN:STANDARD
TZOFFSETFROM:+0200
TZOFFSETTO:+0100
TZNAME:CET
DTSTART:19701025T030000
RRULE:FREQ=YEARLY;BYMONTH=10;BYDAY=-1SU
END:STANDARD
END:VTIMEZONE
BEGIN:VEVENT
UID:2485226:Event:176586
DTSTAMP:20260424T200558Z
SUMMARY:ConfÃ©rence \"Stimuler notre Ãªtre intuitif\"
DESCRIPTION:ConfÃ©rence \" Stimuler notre ÃŠtre Intuitif, les Chemins 
 de l'Eveil \" par Thierry BÃ©court, Ã©crivain, confÃ©rencier et co-prÃ
 ©sident de l'association IRNC, Institut de Recherche des Nouvelles Cul
 tures. ( Participation: 5 Euros )\n\nPour plus d'information, aller su
 r https://epanews.fr/events/conference-stimuler-notre-etre
DTSTART;TZID=Europe/Paris:20110114T193000
DTEND;TZID=Europe/Paris:20110114T213000
CATEGORIES:11, aude
LOCATION:11190 COUSTAUSSA (au sud de Carcassonne directÂ° LIMOUX)
WEBSITE:http://infosois.fr/PEYRE_PICADE
URL:http://infosois.fr/PEYRE_PICADE
CONTACT:06.60.22.15.90
ORGANIZER:l'association IRNC
ATTACH;FMTTYPE="image/jpeg":http://storage.ning.com/topology/rest/1.0/
 file/get/1662368657?profile=original
ATTENDEE;ROLE=REQ-PARTICIPANT;PARTSTAT=ACCEPTED;RSVP=TRUE;CN="SYLVA 10
 8":https://epanews.fr/profile/SYLVA108
END:VEVENT
END:VCALENDAR
