BEGIN:VCALENDAR
PRODID:NingEventWidget-v1
VERSION:2.0
METHOD:PUBLISH
BEGIN:VTIMEZONE
TZID:Europe/Paris
X-LIC-LOCATION:Europe/Paris
BEGIN:DAYLIGHT
TZOFFSETFROM:+0100
TZOFFSETTO:+0200
TZNAME:CEST
DTSTART:19700329T020000
RRULE:FREQ=YEARLY;BYMONTH=3;BYDAY=-1SU
END:DAYLIGHT
BEGIN:STANDARD
TZOFFSETFROM:+0200
TZOFFSETTO:+0100
TZNAME:CET
DTSTART:19701025T030000
RRULE:FREQ=YEARLY;BYMONTH=10;BYDAY=-1SU
END:STANDARD
END:VTIMEZONE
BEGIN:VEVENT
UID:2485226:Event:35716
DTSTAMP:20260420T070844Z
SUMMARY:Conférence : Re-naître à soi même par la Psychologie Biody
 namique
DESCRIPTION:Toute naissance est un passage qui conditionne l’élan v
 ital de l’être. Le travail de renaissance est un processus de guér
 ison des souffrances périnatales conscientes et inconscientes. Il per
 met la libération des mémoires traumatiques personnelles et/ou trans
 générationnelles en modifiant le contrat initial de naissance. Pour 
 de futurs parents ce travail est un acte préventif pour l’enfant à
  venir. A chacun, il redonne sens, désir et pouvoir sur sa propre vie
 .\nPar Rosanna Bilotta et Michelle Lata pour l'Ecole Biodynamique\nEnt
 rée :5 euros\n\nPour plus d'information, aller sur https://epanews.fr
 /events/conference-renaitre-a-soi
DTSTART;TZID=Europe/Paris:20100430T200000
DTEND;TZID=Europe/Paris:20100430T213000
CATEGORIES:69
LOCATION:Intibambu
WEBSITE:http://www.psychologie-biodynamique.com
URL:http://www.psychologie-biodynamique.com
CONTACT:04 67 22 40 50
ORGANIZER;CN="Ecole Biodynamique":https://epanews.fr/profile/EcoleBiod
 ynamique
ATTACH;FMTTYPE="image/jpeg":http://storage.ning.com/topology/rest/1.0/
 file/get/1662286766?profile=original
ATTENDEE;ROLE=REQ-PARTICIPANT;PARTSTAT=ACCEPTED;RSVP=TRUE;CN="Ecole Bi
 odynamique":https://epanews.fr/profile/EcoleBiodynamique
END:VEVENT
END:VCALENDAR
