BEGIN:VCALENDAR
PRODID:NingEventWidget-v1
VERSION:2.0
METHOD:PUBLISH
BEGIN:VTIMEZONE
TZID:Europe/Paris
X-LIC-LOCATION:Europe/Paris
BEGIN:DAYLIGHT
TZOFFSETFROM:+0100
TZOFFSETTO:+0200
TZNAME:CEST
DTSTART:19700329T020000
RRULE:FREQ=YEARLY;BYMONTH=3;BYDAY=-1SU
END:DAYLIGHT
BEGIN:STANDARD
TZOFFSETFROM:+0200
TZOFFSETTO:+0100
TZNAME:CET
DTSTART:19701025T030000
RRULE:FREQ=YEARLY;BYMONTH=10;BYDAY=-1SU
END:STANDARD
END:VTIMEZONE
BEGIN:VEVENT
UID:2485226:Event:154261
DTSTAMP:20260422T074742Z
SUMMARY:ConfÃ©rence  pour la DignitÃ© Humaine
DESCRIPTION:Sommes nous Ã  la fin d'un monde ou au commencement d'une 
 nouvelle Ã©poque? Pouvons nous nous Ã©veiller les ÃŠtres de LumiÃ¨re q
 ue nous sommes rÃ©ellement, et retrouver notre DignitÃ© pour Å“uvrer E
 NSEMBLE pour un avenir bon et plein de sens? Le Mouvement libre et ind
 Ã©pendant de la sauvegarde et du dÃ©veloppement de\nla DignitÃ© Humain
 e est une initiative citoyenne, ouverte Ã  tous. Tarif: 15 euros\n\nPo
 ur plus d'information, aller sur https://epanews.fr/events/conference-
 pour-la-dignite
DTSTART;TZID=Europe/Paris:20101203T200000
DTEND;TZID=Europe/Paris:20101203T223000
CATEGORIES:75
LOCATION:ThÃ©atre Adyar
WEBSITE:http://www.triskell-international.org
URL:http://www.triskell-international.org
CONTACT:01 42 86 93 86
ORGANIZER:Association Triskell International
ATTACH;FMTTYPE="image/jpeg":http://storage.ning.com/topology/rest/1.0/
 file/get/1662360915?profile=original
ATTENDEE;ROLE=REQ-PARTICIPANT;PARTSTAT=ACCEPTED;RSVP=TRUE;CN="Marie-HÃ
 ©lÃ¨ne JOUDIOU":https://epanews.fr/profile/AssociationSacreToi
END:VEVENT
END:VCALENDAR
