BEGIN:VCALENDAR
PRODID:NingEventWidget-v1
VERSION:2.0
METHOD:PUBLISH
BEGIN:VTIMEZONE
TZID:Europe/Paris
X-LIC-LOCATION:Europe/Paris
BEGIN:DAYLIGHT
TZOFFSETFROM:+0100
TZOFFSETTO:+0200
TZNAME:CEST
DTSTART:19700329T020000
RRULE:FREQ=YEARLY;BYMONTH=3;BYDAY=-1SU
END:DAYLIGHT
BEGIN:STANDARD
TZOFFSETFROM:+0200
TZOFFSETTO:+0100
TZNAME:CET
DTSTART:19701025T030000
RRULE:FREQ=YEARLY;BYMONTH=10;BYDAY=-1SU
END:STANDARD
END:VTIMEZONE
BEGIN:VEVENT
UID:2485226:Event:222503
DTSTAMP:20260420T135910Z
SUMMARY:confÃ©rence pour l' education bien vieillante avec Isabelle fi
 lllozat
DESCRIPTION:Mamayaya vous propose- Le samediÂ  30 avril Ã  18hÂ  :Dans
  le cadre de la journÃ©e nationale pour lanon violence Ã©ducative , Re
 ncontre exceptionnelle avec Isabelle Filliozat .Rdv Ã L'hÃ´tel Ibis NÃ
 ®mes Ouest 268, rue de l'Hostellerie Participation 12euros. RÃ©servati
 on demandÃ©e\n\nPour plus d'information, aller sur https://epanews.fr/
 events/conference-pour-l-education
DTSTART;TZID=Europe/Paris:20110430T180000
DTEND;TZID=Europe/Paris:20110430T210000
CATEGORIES:30
LOCATION:nimes
WEBSITE:http://mamayaya.org/
URL:http://mamayaya.org/
CONTACT:0620345499
ORGANIZER;CN=YaÃ«l:https://epanews.fr/profile/yael
ATTACH;FMTTYPE="image/jpeg":http://storage.ning.com/topology/rest/1.0/
 file/get/1662394551?profile=original
ATTENDEE;ROLE=REQ-PARTICIPANT;PARTSTAT=ACCEPTED;RSVP=TRUE;CN=YaÃ«l:htt
 ps://epanews.fr/profile/yael
END:VEVENT
END:VCALENDAR
