BEGIN:VCALENDAR
PRODID:NingEventWidget-v1
VERSION:2.0
METHOD:PUBLISH
BEGIN:VTIMEZONE
TZID:Europe/Paris
X-LIC-LOCATION:Europe/Paris
BEGIN:DAYLIGHT
TZOFFSETFROM:+0100
TZOFFSETTO:+0200
TZNAME:CEST
DTSTART:19700329T020000
RRULE:FREQ=YEARLY;BYMONTH=3;BYDAY=-1SU
END:DAYLIGHT
BEGIN:STANDARD
TZOFFSETFROM:+0200
TZOFFSETTO:+0100
TZNAME:CET
DTSTART:19701025T030000
RRULE:FREQ=YEARLY;BYMONTH=10;BYDAY=-1SU
END:STANDARD
END:VTIMEZONE
BEGIN:VEVENT
UID:2485226:Event:2177638
DTSTAMP:20260425T125623Z
SUMMARY:Conference \"Oser la Bienveillance\" de Lytta BASSET
DESCRIPTION:Conférence \"OSER LA BIENVEILLANCE\" avec Lytta BASSET : 
 Pasteur, auteur, professeur de théologie à l'Université de Neufchâ
 tel, écrivain, directrice de la revue \"La chair et le souffle\".\nQu
 i croit encore au péché originel ? Les Eglises elles-mêmes n’en 
 parlent plus guère, et la sécularisation nous a fait ranger ce dogme
  au rang des vieilleries moralisantes. Et pourtant ! Après avoir ter
 rorisé nos ancêtres, il fait encore sentir ses ravages dans bien des
  domaines, et notamment celui de l’éducation : que nous le voulion
 s ou non, nous avons intégré cette perception négative de la nature
  humaine, et la reproduisons sans cesse.\nLytta Basset décrit ici la 
 généalogie et l’impact de cette notion profondément nocive qui re
 monte à saint Augustin, et qui contredit les premiers Pères de l’E
 glise. Elle montre comment ce pessimisme radical est totalement étran
 ger à l’Evangile : tout au contraire, les gestes et paroles de Jé
 sus nous appellent à développer un autre regard sur l’être humain
 , fondé sur la certitude que nous sommes bénis dès le départ, et l
 e resterons toujours. Appuyé sur le socle de cette  Bienveillance or
 iginelle, chacun de nous peut oser la bienveillance envers lui-même e
 t envers autrui, et passer ainsi de la culpabilité à la responsabili
 té.\nMobilisant les ressources de la psychologie, de la philosophie e
 t des sciences humaines, voici une conférence propre à renverser not
 re vision de l’humanité, de son potentiel et de ses limites.\n\nEnt
 rée : 10 € ou 5 € pour les demandeuses-demandeurs d'emploi ou ét
 udiant(e)s\n\n\nPour plus d'information, aller sur https://epanews.fr/
 events/conference-oser-la-bienveillance-de-lytta-basset
DTSTART;TZID=Europe/Paris:20150128T200000
DTEND;TZID=Europe/Paris:20150128T223000
CATEGORIES:73
LOCATION:Salle Jean renoir - 30, rue nicolas Parent - 73000 CHAMBERY
WEBSITE:
URL:
CONTACT:
ORGANIZER;CN=Michael:https://epanews.fr/profile/Michael47
ATTACH;FMTTYPE="image/jpeg":http://storage.ning.com/topology/rest/1.0/
 file/get/1663300556?profile=original
ATTENDEE;ROLE=REQ-PARTICIPANT;PARTSTAT=ACCEPTED;RSVP=TRUE;CN=Michael:h
 ttps://epanews.fr/profile/Michael47
END:VEVENT
END:VCALENDAR
