BEGIN:VCALENDAR
PRODID:NingEventWidget-v1
VERSION:2.0
METHOD:PUBLISH
BEGIN:VTIMEZONE
TZID:Europe/Paris
X-LIC-LOCATION:Europe/Paris
BEGIN:DAYLIGHT
TZOFFSETFROM:+0100
TZOFFSETTO:+0200
TZNAME:CEST
DTSTART:19700329T020000
RRULE:FREQ=YEARLY;BYMONTH=3;BYDAY=-1SU
END:DAYLIGHT
BEGIN:STANDARD
TZOFFSETFROM:+0200
TZOFFSETTO:+0100
TZNAME:CET
DTSTART:19701025T030000
RRULE:FREQ=YEARLY;BYMONTH=10;BYDAY=-1SU
END:STANDARD
END:VTIMEZONE
BEGIN:VEVENT
UID:2485226:Event:1701640
DTSTAMP:20260423T145250Z
SUMMARY:Conférence : Mieux Comprendre les Autres pour Mieux Communiqu
 er
DESCRIPTION:Conférence : «Mieux Comprendre les Autres*\npour Mieux C
 ommuniquer\"               \n*avec nos enfants, la famil
 le, les collègues de travail...\nAnimée par Marianne Jalil\nFormatri
 ce-Coach diplômée d’Etat\nLa communication est au cœur de toute r
 elation, pourtant nous ne parlons pas tous le même langage ! Notre v
 ision du monde nous conduit à adopter des comportements qui le  plus
  souvent ne sont ni entendus ni compris.\nVenez découvrir l’Ennéag
 ramme,\nun outil pratique de communication et d’évolution. \nL’En
 néagramme  est un système dynamique qui décrit 9 personnalités et
  leurs interactions. Il nous permet de comprendre le fonctionnement de
  l’autre, (ses motivations,  sa sensibilité, son mode de relation 
 privilégié).    Nous pouvons ainsi décider de vivre au quotidien
  des relations harmonieuses en utilisant nos potentiels et en reconnai
 ssant ceux des autres;\nEntrée : 4 € adhérents réseau santé  
  /  8 € non adhérents\nRéservez votre place au 06 86 95 25 62\n 
 \n\nPour plus d'information, aller sur https://epanews.fr/events/confe
 rence-mieux-comprendre-les-autres-pour-mieux-communiquer
DTSTART;TZID=Europe/Paris:20140116T190000
DTEND;TZID=Europe/Paris:20140116T210000
CATEGORIES:13
LOCATION:Marseille 5ème
WEBSITE:
URL:
CONTACT:0686952562
ORGANIZER;CN=Marianne:https://epanews.fr/profile/MarianneJalil
ATTACH;FMTTYPE="image/jpeg":
ATTENDEE;ROLE=REQ-PARTICIPANT;PARTSTAT=ACCEPTED;RSVP=TRUE;CN=Marianne:
 https://epanews.fr/profile/MarianneJalil
END:VEVENT
END:VCALENDAR
