BEGIN:VCALENDAR
PRODID:NingEventWidget-v1
VERSION:2.0
METHOD:PUBLISH
BEGIN:VTIMEZONE
TZID:Europe/Paris
X-LIC-LOCATION:Europe/Paris
BEGIN:DAYLIGHT
TZOFFSETFROM:+0100
TZOFFSETTO:+0200
TZNAME:CEST
DTSTART:19700329T020000
RRULE:FREQ=YEARLY;BYMONTH=3;BYDAY=-1SU
END:DAYLIGHT
BEGIN:STANDARD
TZOFFSETFROM:+0200
TZOFFSETTO:+0100
TZNAME:CET
DTSTART:19701025T030000
RRULE:FREQ=YEARLY;BYMONTH=10;BYDAY=-1SU
END:STANDARD
END:VTIMEZONE
BEGIN:VEVENT
UID:2485226:Event:274407
DTSTAMP:20260426T020838Z
SUMMARY:conférence Libération du Péricarde
DESCRIPTION:qu'est ce que le péricarde ?\nPourquoi est il aussi impor
 tant au niveau des émotions ?\nSa libération a pour but de retrouver
  notre divinité et d'être pleinement conscient.\n \n\nPour plus d'i
 nformation, aller sur https://epanews.fr/events/conference-liberation-
 du
DTSTART;TZID=Europe/Paris:20110514T200000
DTEND;TZID=Europe/Paris:20110514T223000
CATEGORIES:17
LOCATION:La Rochelle 
WEBSITE:
URL:
CONTACT:
ORGANIZER;CN=lezeau:https://epanews.fr/profile/lezeau
ATTACH;FMTTYPE="image/jpeg":
ATTENDEE;ROLE=REQ-PARTICIPANT;PARTSTAT=ACCEPTED;RSVP=TRUE;CN=lezeau:ht
 tps://epanews.fr/profile/lezeau
END:VEVENT
END:VCALENDAR
