BEGIN:VCALENDAR
PRODID:NingEventWidget-v1
VERSION:2.0
METHOD:PUBLISH
BEGIN:VTIMEZONE
TZID:Europe/Paris
X-LIC-LOCATION:Europe/Paris
BEGIN:DAYLIGHT
TZOFFSETFROM:+0100
TZOFFSETTO:+0200
TZNAME:CEST
DTSTART:19700329T020000
RRULE:FREQ=YEARLY;BYMONTH=3;BYDAY=-1SU
END:DAYLIGHT
BEGIN:STANDARD
TZOFFSETFROM:+0200
TZOFFSETTO:+0100
TZNAME:CET
DTSTART:19701025T030000
RRULE:FREQ=YEARLY;BYMONTH=10;BYDAY=-1SU
END:STANDARD
END:VTIMEZONE
BEGIN:VEVENT
UID:2485226:Event:187344
DTSTAMP:20260420T205131Z
SUMMARY:Conférence : les astres et l'Amour 
DESCRIPTION: \nL'astrologie et les sentiments ou comment dépasser no
 tre problématique affective et tendre vers l'amour inconditionnel dan
 s notre histoire de vie au travers de notre thème de naissance\n( de 
 Pornéia a Agapé )\n\nPour plus d'information, aller sur https://epan
 ews.fr/events/conference-les-astres-et
DTSTART;TZID=Europe/Paris:20110204T203000
DTEND;TZID=Europe/Paris:20110204T223000
CATEGORIES:06
LOCATION:Nice
WEBSITE:
URL:
CONTACT:
ORGANIZER:Sybé à l'association respect et soins
ATTACH;FMTTYPE="image/jpeg":
ATTENDEE;ROLE=REQ-PARTICIPANT;PARTSTAT=ACCEPTED;RSVP=TRUE;CN=Sybé:htt
 ps://epanews.fr/profile/Sybe
END:VEVENT
END:VCALENDAR
