BEGIN:VCALENDAR
PRODID:NingEventWidget-v1
VERSION:2.0
METHOD:PUBLISH
BEGIN:VTIMEZONE
TZID:Europe/Paris
X-LIC-LOCATION:Europe/Paris
BEGIN:DAYLIGHT
TZOFFSETFROM:+0100
TZOFFSETTO:+0200
TZNAME:CEST
DTSTART:19700329T020000
RRULE:FREQ=YEARLY;BYMONTH=3;BYDAY=-1SU
END:DAYLIGHT
BEGIN:STANDARD
TZOFFSETFROM:+0200
TZOFFSETTO:+0100
TZNAME:CET
DTSTART:19701025T030000
RRULE:FREQ=YEARLY;BYMONTH=10;BYDAY=-1SU
END:STANDARD
END:VTIMEZONE
BEGIN:VEVENT
UID:2485226:Event:35727
DTSTAMP:20260420T003916Z
SUMMARY:Conférence : le travail sur la voix et les mémoires corporel
 les
DESCRIPTION:Le travail avec la voix, qui est un outil de prédilection
  pour développer la capacité à l’expression, ouvre aussi un chemi
 n de transformation. La voix est le reflet de l'être, et de ce que le
 s expériences passées y ont laissé comme traces. Fondamentalement p
 sycho-corporel, ce travail permet d’élever le niveau vibratoire afi
 n d’entrer dans des états modifiés de conscience. Il cherche les c
 lés sonores qui ouvrent les portes scellées de l'histoire, et laisse
  émerger les chants guérissants.\nPar Christiane Lewin pour l'Ecole 
 Biodynamique\n\nPour plus d'information, aller sur https://epanews.fr/
 events/conference-le-travail-sur-la
DTSTART;TZID=Europe/Paris:20100505T203000
DTEND;TZID=Europe/Paris:20100505T220000
CATEGORIES:13
LOCATION:L'art des sens
WEBSITE:http://www.psychologie-biodynamique.com
URL:http://www.psychologie-biodynamique.com
CONTACT:04 67 22 40 50
ORGANIZER;CN="Ecole Biodynamique":https://epanews.fr/profile/EcoleBiod
 ynamique
ATTACH;FMTTYPE="image/jpeg":http://storage.ning.com/topology/rest/1.0/
 file/get/1662286970?profile=original
ATTENDEE;ROLE=REQ-PARTICIPANT;PARTSTAT=ACCEPTED;RSVP=TRUE;CN="Ecole Bi
 odynamique":https://epanews.fr/profile/EcoleBiodynamique
ATTENDEE;ROLE=REQ-PARTICIPANT;PARTSTAT=TENTATIVE;RSVP=TRUE;CN=kitshett
 e:https://epanews.fr/profile/kitshette
END:VEVENT
END:VCALENDAR
