BEGIN:VCALENDAR
PRODID:NingEventWidget-v1
VERSION:2.0
METHOD:PUBLISH
BEGIN:VTIMEZONE
TZID:Europe/Paris
X-LIC-LOCATION:Europe/Paris
BEGIN:DAYLIGHT
TZOFFSETFROM:+0100
TZOFFSETTO:+0200
TZNAME:CEST
DTSTART:19700329T020000
RRULE:FREQ=YEARLY;BYMONTH=3;BYDAY=-1SU
END:DAYLIGHT
BEGIN:STANDARD
TZOFFSETFROM:+0200
TZOFFSETTO:+0100
TZNAME:CET
DTSTART:19701025T030000
RRULE:FREQ=YEARLY;BYMONTH=10;BYDAY=-1SU
END:STANDARD
END:VTIMEZONE
BEGIN:VEVENT
UID:2485226:Event:1575867
DTSTAMP:20260423T162915Z
SUMMARY:Modification demandée
DESCRIPTION:Pour la 1ère fois à Bordeaux dans le cadre de sa tourné
 e européenne\nCette conférence vous apportera une source importante 
 de connaissances afin de pouvoir vous aider à comprendre et à mieux 
 interpréter vos rêves et votre  vie en profondeur. Kaya met en lumi
 ère les fondements de la symbolique pour vous emmener au cœur du Cod
 e Source. Il vous explique dans un langage facile à comprendre que no
 s rêves sont les projets, les probabilités de  nos futures actions.
 \nKaya est auteur et conférencier international sur l'interprétation
  des rêves, signes et symboles et est considéré comme un des plus g
 rands spécialistes mondiaux dans le domaine de la compréhension du l
 angage symbolique. Il a écrit avec Christiane Muller, son épouse, pl
 usieurs bestsellers sur le sujet qui sont diffusés dans plus de 20 pa
 ys à travers le monde dont son dernier livre \"Dictionnaire Rêves - 
 Signes - Symboles le Code Source\".\nParticipation : 15 € (tarif no
 rmal) et 10 € (tarif étudiant)\nRéservation obligatoire à la libr
 airie Pégase\nou au 05 56 51 38 12\nPlaces limitées !\n\nPour plus
  d'information, aller sur https://epanews.fr/events/conference-le-r-ve
 -et-les-signes-un-voyage-au-del-du-pass-du
DTSTART;TZID=Europe/Paris:20131119T193000
DTEND;TZID=Europe/Paris:20131119T213000
CATEGORIES:33, 47, 24, 64, 40
LOCATION:Espace Mouneyra
WEBSITE:
URL:
CONTACT:05 56 51 38 12
ORGANIZER;CN="Librairie PEGASE":https://epanews.fr/profile/LibrairiePE
 GASE
ATTACH;FMTTYPE="image/jpeg":http://storage.ning.com/topology/rest/1.0/
 file/get/1662947863?profile=original
ATTENDEE;ROLE=REQ-PARTICIPANT;PARTSTAT=ACCEPTED;RSVP=TRUE;CN="Librairi
 e PEGASE":https://epanews.fr/profile/LibrairiePEGASE
END:VEVENT
END:VCALENDAR
