BEGIN:VCALENDAR
PRODID:NingEventWidget-v1
VERSION:2.0
METHOD:PUBLISH
BEGIN:VTIMEZONE
TZID:Europe/Paris
X-LIC-LOCATION:Europe/Paris
BEGIN:DAYLIGHT
TZOFFSETFROM:+0100
TZOFFSETTO:+0200
TZNAME:CEST
DTSTART:19700329T020000
RRULE:FREQ=YEARLY;BYMONTH=3;BYDAY=-1SU
END:DAYLIGHT
BEGIN:STANDARD
TZOFFSETFROM:+0200
TZOFFSETTO:+0100
TZNAME:CET
DTSTART:19701025T030000
RRULE:FREQ=YEARLY;BYMONTH=10;BYDAY=-1SU
END:STANDARD
END:VTIMEZONE
BEGIN:VEVENT
UID:2485226:Event:194970
DTSTAMP:20260423T154912Z
SUMMARY:ConfÃ©rence \"Le gout de vivre, le gout de mourir Rites de pas
 sage et rÃ©enchantement de la vie\"
DESCRIPTION:Venue de PAULE LEBRUN En Mars 2011 PrÃ©sidente fondatrice 
 et directrice de Ho Rites de passage\n\nVendredi soir 18 mars 2011 Ã  
 19h30\nConfÃ©rence \"Le gout de vivre, le gout de mourir Rites de pass
 age et rÃ©enchantement de la vie\"\nCentre culturel de Cassis 12â‚¬/10
 â‚¬adhÃ©rent\n\nSamedi 19 et Dimanche 20 Mars 2011\nStage de 2 jours  
 ThÃ©Ã¢tre rituel Ã  partir d'une legende iroquoise \"LES FAISEURS DE P
 AIX\" (Peace Makers)\nÂ \n\"Connaissez-vous les thÃ©Ã¢tres archÃ©typau
 x de HO rites, Ã‰cole quÃ©bÃ©coise de Rites de Passage ?  Ils sont mag
 iques, profonds, ludiques, festifs et sacrÃ©s.  On y danse on y chante
 , on pratique des rites, on fait le silence et on se laisse guider par
  des histoires des mythes et des lÃ©gendes. Ils sont lâ€™une des princ
 ipales pratiques des anciennes psychologies sacrÃ©es.\nDeganawidah est
  la lÃ©gende iroquoise des Faiseurs de paix (Peace Makers).  Elle nous
  parle de nous, aujourdâ€™hui en ces temps de total dÃ©senchantement e
 t de chute. Elle nous connecte au centre et Ã  la Source, rÃ©enchante 
 nos missions de vies individuelles et nous aide Ã   sacraliser nos cad
 eaux. \"\nVilla Monvert, Cassis Participation 260 â‚¬ le week-end Appo
 rter repas Ã  partager pour les midis\n\nPrÃ©sentation de Paule Lebrun
  :\n\"PrÃ©sidente fondatrice et directrice de Ho Rites de passage, Pau
 le en porte l'Ã¢me et la vision. PionniÃ¨re au QuÃ©bec de ce qu'on app
 elle les changements de paradigme, voyageuse de long cours, journalist
 e de grand reportage et auteure du livre La DÃ©esse et la PanthÃ¨re, u
 ne sÃ©rie de chroniques inspirÃ©es en grande partie de ses aventures e
 n Orient et dans le Sud-Ouest amÃ©ricain, cette perpÃ©tuelle chercheus
 e s'intÃ©resse depuis toujours aux cultures autochtones et orientales.
  FascinÃ©e par la diversitÃ© et la puissance des rituels de ces tradit
 ions millÃ©naires, elle les a analysÃ©s en profondeur pour en saisir l
 'essence et elle s'est donnÃ©e pour mission de les rÃ©introduire peu Ã
   peu dans la culture occidentale. Depuis plus de 15 ans, elle offre d
 es confÃ©rences, anime des ateliers et guide des voyages oÃ¹ elle comm
 unique et partage sa passion.\"\nSource : horites.com\nÂ \nAssociation
  Les Nouveaux Mondes, Cassis  Isabelle Duffaud 06 14 65 04 48/ HÃ©berg
 ement Patrick Benoist Villa Montvert 06 08 28 58 16\n\nPour plus d'inf
 ormation, aller sur https://epanews.fr/events/conference-le-gout-de-vi
 vre-le
DTSTART;TZID=Europe/Paris:20110318T193000
DTEND;TZID=Europe/Paris:20110318T220000
CATEGORIES:tous
LOCATION:CASSIS 13
WEBSITE:http://associationlesnouveauxmondes.com
URL:http://associationlesnouveauxmondes.com
CONTACT:06 14 65 04 48
ORGANIZER;CN="Association Les Nouveaux Mondes":https://epanews.fr/prof
 ile/AssociationLesNouveauxMondes
ATTACH;FMTTYPE="image/jpeg":http://storage.ning.com/topology/rest/1.0/
 file/get/1662383278?profile=original
ATTENDEE;ROLE=REQ-PARTICIPANT;PARTSTAT=ACCEPTED;RSVP=TRUE;CN="Associat
 ion Les Nouveaux Mondes":https://epanews.fr/profile/AssociationLesNouv
 eauxMondes
END:VEVENT
END:VCALENDAR
