BEGIN:VCALENDAR
PRODID:NingEventWidget-v1
VERSION:2.0
METHOD:PUBLISH
BEGIN:VTIMEZONE
TZID:Europe/Paris
X-LIC-LOCATION:Europe/Paris
BEGIN:DAYLIGHT
TZOFFSETFROM:+0100
TZOFFSETTO:+0200
TZNAME:CEST
DTSTART:19700329T020000
RRULE:FREQ=YEARLY;BYMONTH=3;BYDAY=-1SU
END:DAYLIGHT
BEGIN:STANDARD
TZOFFSETFROM:+0200
TZOFFSETTO:+0100
TZNAME:CET
DTSTART:19701025T030000
RRULE:FREQ=YEARLY;BYMONTH=10;BYDAY=-1SU
END:STANDARD
END:VTIMEZONE
BEGIN:VEVENT
UID:2485226:Event:58449
DTSTAMP:20260420T083316Z
SUMMARY:CONFERENCE : LA SOMATOTHERAPIE : L'HARMONIE PAR LA MEDITATION
DESCRIPTION:LA SOMATOTHERAPIE :\nla puissance de l'approche corporelle
  associée à la méditation d'attention bouddhiste.\n\nPour plus d'in
 formation, aller sur https://epanews.fr/events/conference-la-somatothe
 rapie
DTSTART;TZID=Europe/Paris:20100518T180000
DTEND;TZID=Europe/Paris:20100518T193000
CATEGORIES:34
LOCATION:ESPACE BHÃVANÃ
WEBSITE:http://www.somatotherapie.info
URL:http://www.somatotherapie.info
CONTACT:06 18 44 45 03
ORGANIZER;CN="Association ESPACE BHÃVANÃ":https://epanews.fr/profile
 /AssociationESPACEBHAVANA
ATTACH;FMTTYPE="image/jpeg":
ATTENDEE;ROLE=REQ-PARTICIPANT;PARTSTAT=ACCEPTED;RSVP=TRUE;CN="Associat
 ion ESPACE BHÃVANÃ":https://epanews.fr/profile/AssociationESPACEBHAV
 ANA
END:VEVENT
END:VCALENDAR
