BEGIN:VCALENDAR
PRODID:NingEventWidget-v1
VERSION:2.0
METHOD:PUBLISH
BEGIN:VTIMEZONE
TZID:Europe/Paris
X-LIC-LOCATION:Europe/Paris
BEGIN:DAYLIGHT
TZOFFSETFROM:+0100
TZOFFSETTO:+0200
TZNAME:CEST
DTSTART:19700329T020000
RRULE:FREQ=YEARLY;BYMONTH=3;BYDAY=-1SU
END:DAYLIGHT
BEGIN:STANDARD
TZOFFSETFROM:+0200
TZOFFSETTO:+0100
TZNAME:CET
DTSTART:19701025T030000
RRULE:FREQ=YEARLY;BYMONTH=10;BYDAY=-1SU
END:STANDARD
END:VTIMEZONE
BEGIN:VEVENT
UID:2485226:Event:1726044
DTSTAMP:20260421T083803Z
SUMMARY:Modification demandÃ©e
DESCRIPTION:\nAnimÃ©e par FranÃ§ois Constanty,\nPraticien et Mentor de
  la Reconnexion en France\nÂ« DiffÃ©rente de tout ce que vous avez con
 nu jusquâ€™alors, la Reconnexion est un ensemble de nouvelles frÃ©quen
 ces constituÃ©es dâ€™Ã©nergie, de lumiÃ¨re et dâ€™information qui agit
  aux niveaux physique, mental, Ã©motionnel et spirituel. Elle aide Ã  
 nous reconnecter Ã  notre Ãªtre intÃ©rieur. Â»\nVenez dÃ©couvrir et ex
 pÃ©rimenter ces frÃ©quences pour rÃ©tablir votre Ã©quilibre avec FranÃ
 §ois Constanty.\nParticipation : 9 â‚¬ (tarif normal) ou 6 â‚¬ (Ã©tudi
 ant et demandeur dâ€™emploi)\nPlaces limitÃ©es !\nRÃ©servation exclusi
 vement sur le site https://www.yuticket.com\nou en contactant Muriel W
 oringer au 06 43 01 68 76 ou www.murielworinger.com\n\nPour plus d'inf
 ormation, aller sur https://epanews.fr/events/conference-la-reconnexio
 n-selon-le-dc-eric-pearl
DTSTART;TZID=Europe/Paris:20140206T203000
DTEND;TZID=Europe/Paris:20140206T223000
CATEGORIES:33, 40, 64, 47, 24
LOCATION:Centre Quintessence
WEBSITE:http://www.murielworinger.com
URL:http://www.murielworinger.com
CONTACT:06 43 01 68 76
ORGANIZER;CN="Librairie PEGASE":https://epanews.fr/profile/LibrairiePE
 GASE
ATTACH;FMTTYPE="image/jpeg":http://storage.ning.com/topology/rest/1.0/
 file/get/1663021959?profile=original
ATTENDEE;ROLE=REQ-PARTICIPANT;PARTSTAT=ACCEPTED;RSVP=TRUE;CN="Librairi
 e PEGASE":https://epanews.fr/profile/LibrairiePEGASE
END:VEVENT
END:VCALENDAR
