BEGIN:VCALENDAR
PRODID:NingEventWidget-v1
VERSION:2.0
METHOD:PUBLISH
BEGIN:VTIMEZONE
TZID:Europe/Paris
X-LIC-LOCATION:Europe/Paris
BEGIN:DAYLIGHT
TZOFFSETFROM:+0100
TZOFFSETTO:+0200
TZNAME:CEST
DTSTART:19700329T020000
RRULE:FREQ=YEARLY;BYMONTH=3;BYDAY=-1SU
END:DAYLIGHT
BEGIN:STANDARD
TZOFFSETFROM:+0200
TZOFFSETTO:+0100
TZNAME:CET
DTSTART:19701025T030000
RRULE:FREQ=YEARLY;BYMONTH=10;BYDAY=-1SU
END:STANDARD
END:VTIMEZONE
BEGIN:VEVENT
UID:2485226:Event:35547
DTSTAMP:20260421T083618Z
SUMMARY:Conférence : La psychologie biodynamique une expérience de v
 ie qui nous reconnecte à notre esssencer
DESCRIPTION:La Psychologie Biodynamique postule l'existence d'un noyau
  sain plein de vitalité dès la naissance. Lors d'épreuves non surmo
 ntées ce potentiel physique, psychique, énergétique peut s'appauvri
 r. L'individu cuirasse son corps et son caractère et perd petit à pe
 tit le contact avec sa profonde joie de vivre. Derrière cette personn
 alité secondaire, la Psychologie Biodynamique propose un chemin de re
 trouvailles avec la personnalité primaire, libre et joyeuse.\nPar Gen
 eviève David pour l'Ecole Biodynamique\nEntrée : 5 euros\n\nPour plu
 s d'information, aller sur https://epanews.fr/events/conference-la-psy
 chologie
DTSTART;TZID=Europe/Paris:20100416T183000
DTEND;TZID=Europe/Paris:20100416T200000
CATEGORIES:33
LOCATION:Librairie Pégase
WEBSITE:http://www.psychologie-biodynamique.com
URL:http://www.psychologie-biodynamique.com
CONTACT:04 67 22 40 50
ORGANIZER;CN="Ecole Biodynamique":https://epanews.fr/profile/EcoleBiod
 ynamique
ATTACH;FMTTYPE="image/jpeg":http://storage.ning.com/topology/rest/1.0/
 file/get/1662286998?profile=original
ATTENDEE;ROLE=REQ-PARTICIPANT;PARTSTAT=ACCEPTED;RSVP=TRUE;CN="Ecole Bi
 odynamique":https://epanews.fr/profile/EcoleBiodynamique
END:VEVENT
END:VCALENDAR
