BEGIN:VCALENDAR
PRODID:NingEventWidget-v1
VERSION:2.0
METHOD:PUBLISH
BEGIN:VTIMEZONE
TZID:Europe/Paris
X-LIC-LOCATION:Europe/Paris
BEGIN:DAYLIGHT
TZOFFSETFROM:+0100
TZOFFSETTO:+0200
TZNAME:CEST
DTSTART:19700329T020000
RRULE:FREQ=YEARLY;BYMONTH=3;BYDAY=-1SU
END:DAYLIGHT
BEGIN:STANDARD
TZOFFSETFROM:+0200
TZOFFSETTO:+0100
TZNAME:CET
DTSTART:19701025T030000
RRULE:FREQ=YEARLY;BYMONTH=10;BYDAY=-1SU
END:STANDARD
END:VTIMEZONE
BEGIN:VEVENT
UID:2485226:Event:598658
DTSTAMP:20260423T120734Z
SUMMARY:Atelier/Conférence L'Homme et l'Amour
DESCRIPTION:Atelier/Conférence  LE SAMEDI 26 NOVEMBRE 2011 DE 15H00 
 A 18H00 L'Homme et l'Amour\nsalle mozart a toulon\ntoutes les bonnes v
 olontés thérapeutes et particuliers sont bienvenues pour faire part 
 de leurs expériences.\n\nPour plus d'information, aller sur https://e
 panews.fr/events/conference-l-homme-et-l-amour
DTSTART;TZID=Europe/Paris:20111126T150000
DTEND;TZID=Europe/Paris:20111126T180000
CATEGORIES:83
LOCATION:TOULON
WEBSITE:
URL:
CONTACT:06 23 14 85 35
ORGANIZER;CN="leuca sylvie":https://epanews.fr/profile/leucasylvie
ATTACH;FMTTYPE="image/jpeg":
ATTENDEE;ROLE=REQ-PARTICIPANT;PARTSTAT=ACCEPTED;RSVP=TRUE;CN="leuca sy
 lvie":https://epanews.fr/profile/leucasylvie
END:VEVENT
END:VCALENDAR
