BEGIN:VCALENDAR
PRODID:NingEventWidget-v1
VERSION:2.0
METHOD:PUBLISH
BEGIN:VTIMEZONE
TZID:Europe/Paris
X-LIC-LOCATION:Europe/Paris
BEGIN:DAYLIGHT
TZOFFSETFROM:+0100
TZOFFSETTO:+0200
TZNAME:CEST
DTSTART:19700329T020000
RRULE:FREQ=YEARLY;BYMONTH=3;BYDAY=-1SU
END:DAYLIGHT
BEGIN:STANDARD
TZOFFSETFROM:+0200
TZOFFSETTO:+0100
TZNAME:CET
DTSTART:19701025T030000
RRULE:FREQ=YEARLY;BYMONTH=10;BYDAY=-1SU
END:STANDARD
END:VTIMEZONE
BEGIN:VEVENT
UID:2485226:Event:2919551
DTSTAMP:20260424T155326Z
SUMMARY:conference l'energétique c'est quoi?
DESCRIPTION:Conférence gratuite l'Energétique, c'est quoi? par Colet
 te SalvanezLe vendredi 16 février 2018 à 18h30\nEst ce simplement po
 ur certaines personnes?Où trouve-t-on l'énergie? A quoi ça sert?Le 
 magnétisme, le reiki, les massages énergétiques, les barreurs de fe
 u, etc ...Pourquoi nous devrions tous nous servir des énergies, afin 
 d'améliorer notre quotidien, de reprendre contact avec ce qui existe 
 en nous .Toutes ces questions que vous vous posez ... j'essaierai de v
 ous y répondre, de façon simple ... car en fait chacun de nous peut 
 améliorer sa vie au quotidien en se servant de sa propre énergie.\nR
 éservationsNadège 06.23.01.35.96 ou larcencieldupartage@gmail.com\nL
 ieu : L'arc en ciel du partage1 rue garancière 11100 narbonnewww.larc
 encieldupartage.org\n\nPour plus d'information, aller sur https://epan
 ews.fr/events/conference-l-energ-tique-c-est-quoi
DTSTART;TZID=Europe/Paris:20180216T183000
DTEND;TZID=Europe/Paris:20180216T200000
CATEGORIES:11
LOCATION:narbonne
WEBSITE:http://www.larcencieldupartage.org
URL:http://www.larcencieldupartage.org
CONTACT:0623013596
ORGANIZER;CN="L'arc en ciel du partage":https://epanews.fr/profile/Lar
 cencieldupartage
ATTACH;FMTTYPE="image/jpeg":http://storage.ning.com/topology/rest/1.0/
 file/get/1663709507?profile=original
ATTENDEE;ROLE=REQ-PARTICIPANT;PARTSTAT=ACCEPTED;RSVP=TRUE;CN="L'arc en
  ciel du partage":https://epanews.fr/profile/Larcencieldupartage
END:VEVENT
END:VCALENDAR
