BEGIN:VCALENDAR
PRODID:NingEventWidget-v1
VERSION:2.0
METHOD:PUBLISH
BEGIN:VTIMEZONE
TZID:Europe/Paris
X-LIC-LOCATION:Europe/Paris
BEGIN:DAYLIGHT
TZOFFSETFROM:+0100
TZOFFSETTO:+0200
TZNAME:CEST
DTSTART:19700329T020000
RRULE:FREQ=YEARLY;BYMONTH=3;BYDAY=-1SU
END:DAYLIGHT
BEGIN:STANDARD
TZOFFSETFROM:+0200
TZOFFSETTO:+0100
TZNAME:CET
DTSTART:19701025T030000
RRULE:FREQ=YEARLY;BYMONTH=10;BYDAY=-1SU
END:STANDARD
END:VTIMEZONE
BEGIN:VEVENT
UID:2485226:Event:174322
DTSTAMP:20260424T043859Z
SUMMARY:Conférence Hypnose et Auto-hypnose
DESCRIPTION:Qu'est-ce que l'hypnose et l'auto-hypnose ? \nComment, gr
 âce à l'hypnose et l'auto-hypnose,  pouvez-vous apprendre, par de
 s exercices simples et efficaces, à dépasser vos blocages physiques 
 et psychologiques et améliorer vos capacités ?\nDémonstration sur 
 volontaires\nparticipation: 15 euros\nTél : 06 73 93 24 82 - Mail:eve
 .ducharme@wanadoo.fr\n \n\nPour plus d'information, aller sur https:/
 /epanews.fr/events/conference-hypnose-et
DTSTART;TZID=Europe/Paris:20110118T193000
DTEND;TZID=Europe/Paris:20110118T210000
CATEGORIES:75006
LOCATION:paris
WEBSITE:
URL:
CONTACT:06 73 93 24 82 
ORGANIZER;CN=Ducharme:https://epanews.fr/profile/Ducharme
ATTACH;FMTTYPE="image/jpeg":
ATTENDEE;ROLE=REQ-PARTICIPANT;PARTSTAT=ACCEPTED;RSVP=TRUE;CN=valou94:h
 ttps://epanews.fr/profile/valou94
ATTENDEE;ROLE=REQ-PARTICIPANT;PARTSTAT=ACCEPTED;RSVP=TRUE;CN=Ducharme:
 https://epanews.fr/profile/Ducharme
END:VEVENT
END:VCALENDAR
