BEGIN:VCALENDAR
PRODID:NingEventWidget-v1
VERSION:2.0
METHOD:PUBLISH
BEGIN:VTIMEZONE
TZID:Europe/Paris
X-LIC-LOCATION:Europe/Paris
BEGIN:DAYLIGHT
TZOFFSETFROM:+0100
TZOFFSETTO:+0200
TZNAME:CEST
DTSTART:19700329T020000
RRULE:FREQ=YEARLY;BYMONTH=3;BYDAY=-1SU
END:DAYLIGHT
BEGIN:STANDARD
TZOFFSETFROM:+0200
TZOFFSETTO:+0100
TZNAME:CET
DTSTART:19701025T030000
RRULE:FREQ=YEARLY;BYMONTH=10;BYDAY=-1SU
END:STANDARD
END:VTIMEZONE
BEGIN:VEVENT
UID:2485226:Event:144393
DTSTAMP:20260419T152135Z
SUMMARY:Conférence : heureux qui communique
DESCRIPTION:Conférence animée par Corinne Cygler Formatrice\nHEUREUX
  QUI COMMUNIQUE\n\n\n\nFormatrice de formateurs en relations humaines 
 auprès\ndes particuliers et des entreprises (méthode ESPERE ® de Ja
 cques Salomé)\n\nParticipation aux frais : 5 € + une consommation\n
 \nPour plus d'information, aller sur https://epanews.fr/events/confere
 nce-heureux-qui
DTSTART;TZID=Europe/Paris:20101104T200000
DTEND;TZID=Europe/Paris:20101104T210000
CATEGORIES:13
LOCATION:Brasserie des Danaïdes
WEBSITE:http://Métro ligne 1 > Réformés
URL:http://Métro ligne 1 > Réformés
CONTACT:Réservation: 04 42 51 47 20 / 06 60 87 72 24
ORGANIZER:Corinne Cygler
ATTACH;FMTTYPE="image/jpeg":http://storage.ning.com/topology/rest/1.0/
 file/get/1662355686?profile=original
ATTENDEE;ROLE=REQ-PARTICIPANT;PARTSTAT=ACCEPTED;RSVP=TRUE;CN="HERRAIZ 
 PATRICIA":https://epanews.fr/profile/HZPATRICIA
END:VEVENT
END:VCALENDAR
