BEGIN:VCALENDAR
PRODID:NingEventWidget-v1
VERSION:2.0
METHOD:PUBLISH
BEGIN:VTIMEZONE
TZID:Europe/Paris
X-LIC-LOCATION:Europe/Paris
BEGIN:DAYLIGHT
TZOFFSETFROM:+0100
TZOFFSETTO:+0200
TZNAME:CEST
DTSTART:19700329T020000
RRULE:FREQ=YEARLY;BYMONTH=3;BYDAY=-1SU
END:DAYLIGHT
BEGIN:STANDARD
TZOFFSETFROM:+0200
TZOFFSETTO:+0100
TZNAME:CET
DTSTART:19701025T030000
RRULE:FREQ=YEARLY;BYMONTH=10;BYDAY=-1SU
END:STANDARD
END:VTIMEZONE
BEGIN:VEVENT
UID:2485226:Event:35724
DTSTAMP:20260420T040355Z
SUMMARY:Conférence : guérir le passé pour construire le futur
DESCRIPTION:Pour dénouer les conditionnements douloureux, la Psycholo
 gie Biodynamique a su développer un travail sur les séquelles du pas
 sé et ses empreintes psychiques et corporelles. La régression positi
 ve permet de boucler des cycles émotionnels inachevés et de réparer
  les souffrances engrammées afin d’augmenter le bien être autonome
  et la liberté. Nourri par ces expériences correctives qui nous ouvr
 ent à notre énergie essentielle, notre dynamique de vie se re-déplo
 ie et notre âme ressurgit à notre conscience.\nPar François Lewin p
 our l'Ecole Biodynamique\nEntrée : 5 euros\n\nPour plus d'information
 , aller sur https://epanews.fr/events/conference-guerir-le-passe-1
DTSTART;TZID=Europe/Paris:20100504T204500
DTEND;TZID=Europe/Paris:20100504T220000
CATEGORIES:34
LOCATION:Sources Vives
WEBSITE:http://www.psychologie-biodynamique.com
URL:http://www.psychologie-biodynamique.com
CONTACT:04 67 22 40 50
ORGANIZER;CN="Ecole Biodynamique":https://epanews.fr/profile/EcoleBiod
 ynamique
ATTACH;FMTTYPE="image/jpeg":http://storage.ning.com/topology/rest/1.0/
 file/get/1662286776?profile=original
ATTENDEE;ROLE=REQ-PARTICIPANT;PARTSTAT=ACCEPTED;RSVP=TRUE;CN="catherin
 e jandelle":https://epanews.fr/profile/zenly34
ATTENDEE;ROLE=REQ-PARTICIPANT;PARTSTAT=ACCEPTED;RSVP=TRUE;CN="Ecole Bi
 odynamique":https://epanews.fr/profile/EcoleBiodynamique
END:VEVENT
END:VCALENDAR
