BEGIN:VCALENDAR
PRODID:NingEventWidget-v1
VERSION:2.0
METHOD:PUBLISH
BEGIN:VTIMEZONE
TZID:Europe/Paris
X-LIC-LOCATION:Europe/Paris
BEGIN:DAYLIGHT
TZOFFSETFROM:+0100
TZOFFSETTO:+0200
TZNAME:CEST
DTSTART:19700329T020000
RRULE:FREQ=YEARLY;BYMONTH=3;BYDAY=-1SU
END:DAYLIGHT
BEGIN:STANDARD
TZOFFSETFROM:+0200
TZOFFSETTO:+0100
TZNAME:CET
DTSTART:19701025T030000
RRULE:FREQ=YEARLY;BYMONTH=10;BYDAY=-1SU
END:STANDARD
END:VTIMEZONE
BEGIN:VEVENT
UID:2485226:Event:186580
DTSTAMP:20260421T192143Z
SUMMARY:Conférence \"Guérir grâce à l'intuition, de quoi parle-t-o
 n?\"
DESCRIPTION:Pour plus d'informations\nNous avons tous de l'intuition! 
 Nous n'avons pas appris à l'utiliser et/ou à la développer. Parfoi
 s elle peut même nous déranger...Certains lui font confiance, d'autr
 es pas.\nComment l'intuition m'a permis d'élargir mon propre champ de
  conscience pour le mettre au service d'autrui.\nJe témoignerai de so
 n application dans le travail spécifique d'accompagnement de personne
 s malades, de ce qui leur a été donné de découvrir et de vivre en 
 conscience, des choix possibles qui se sont offerts à eux. Pour tous 
 les chercheurs en vie meilleure!\n\nPour plus d'information, aller su
 r https://epanews.fr/events/conference-guerir-grace-a
DTSTART;TZID=Europe/Paris:20110211T193000
DTEND;TZID=Europe/Paris:20110211T210000
CATEGORIES:83, 13, 04, 06
LOCATION:Marseille et Toulon
WEBSITE:http://associationlesnouveauxmondes.com
URL:http://associationlesnouveauxmondes.com
CONTACT:06 59 39 92 62 / 04 94 41 09 43
ORGANIZER;CN="Françoise Elisabeth":https://epanews.fr/profile/Francoi
 seElisabeth
ATTACH;FMTTYPE="image/jpeg":
ATTENDEE;ROLE=REQ-PARTICIPANT;PARTSTAT=ACCEPTED;RSVP=TRUE;CN="Françoi
 se Elisabeth":https://epanews.fr/profile/FrancoiseElisabeth
ATTENDEE;ROLE=REQ-PARTICIPANT;PARTSTAT=TENTATIVE;RSVP=TRUE;CN=chloé:h
 ttps://epanews.fr/profile/chloe
END:VEVENT
END:VCALENDAR
