BEGIN:VCALENDAR
PRODID:NingEventWidget-v1
VERSION:2.0
METHOD:PUBLISH
BEGIN:VTIMEZONE
TZID:Europe/Paris
X-LIC-LOCATION:Europe/Paris
BEGIN:DAYLIGHT
TZOFFSETFROM:+0100
TZOFFSETTO:+0200
TZNAME:CEST
DTSTART:19700329T020000
RRULE:FREQ=YEARLY;BYMONTH=3;BYDAY=-1SU
END:DAYLIGHT
BEGIN:STANDARD
TZOFFSETFROM:+0200
TZOFFSETTO:+0100
TZNAME:CET
DTSTART:19701025T030000
RRULE:FREQ=YEARLY;BYMONTH=10;BYDAY=-1SU
END:STANDARD
END:VTIMEZONE
BEGIN:VEVENT
UID:2485226:Event:1234400
DTSTAMP:20260423T014338Z
SUMMARY:conference à groupe santé Annecy
DESCRIPTION:\n\nPour plus d'information, aller sur https://epanews.fr/
 events/conference-groupe-sant-annecy
DTSTART;TZID=Europe/Paris:20130515T200000
DTEND;TZID=Europe/Paris:20130515T230000
CATEGORIES:74
LOCATION:annecy
WEBSITE:
URL:
CONTACT:0673014135
ORGANIZER;CN="Millot Sabrina":https://epanews.fr/profile/MillotSabrina
ATTACH;FMTTYPE="image/jpeg":http://storage.ning.com/topology/rest/1.0/
 file/get/1662781778?profile=original
ATTENDEE;ROLE=REQ-PARTICIPANT;PARTSTAT=ACCEPTED;RSVP=TRUE;CN="Millot S
 abrina":https://epanews.fr/profile/MillotSabrina
END:VEVENT
END:VCALENDAR
