BEGIN:VCALENDAR
PRODID:NingEventWidget-v1
VERSION:2.0
METHOD:PUBLISH
BEGIN:VTIMEZONE
TZID:Europe/Paris
X-LIC-LOCATION:Europe/Paris
BEGIN:DAYLIGHT
TZOFFSETFROM:+0100
TZOFFSETTO:+0200
TZNAME:CEST
DTSTART:19700329T020000
RRULE:FREQ=YEARLY;BYMONTH=3;BYDAY=-1SU
END:DAYLIGHT
BEGIN:STANDARD
TZOFFSETFROM:+0200
TZOFFSETTO:+0100
TZNAME:CET
DTSTART:19701025T030000
RRULE:FREQ=YEARLY;BYMONTH=10;BYDAY=-1SU
END:STANDARD
END:VTIMEZONE
BEGIN:VEVENT
UID:2485226:Event:2654706
DTSTAMP:20260422T082631Z
SUMMARY:Modification demandée
DESCRIPTION:Invitation%2006%20juin%202016.pdf\nCONFÉRENCE GRATUITE\nL
 'Intestin , notre deuxième cerveau ?\nPrésentation de la conférence
  par Sébastien Pelé qui amis au point une technique innovante de lac
 tofermentation de fruits et de légumes...\nIl expliquera aussi son pa
 rcours et comment le frugivorisme l'a sorti d'une fibromyalgie...\n \
 nSelon la classification d'Edmond Bordeaux-Skezely, les produits lacto
 -fermentés sont des aliments à haute vitalité bio-actifs. Comme les
  graines germées, ces aliments consommés crus conviennent parfaiteme
 nt pour les personnes qui choisissent une alimentation vivante.\n \nL
 a lacto-fermentation est un excellent mode de conservation, elle acidi
 fie, modifie le goût de l'aliment et surtout enrichit les aliments au
 gmentant leur teneur vitaminique en créant de nouveaux nutriments : v
 itamines (dont de la vitamine C, des vitamines du groupe B dont la B12
 , de la vitamine K et de la provitamine A), minéraux et oligo-éléme
 nts et en augmentant la quantité des lactobaciles (de bonnes bactéri
 es naturelles).\n \nElle rend les fibres des aliments moins irritante
 s pour les intestins, ce qui est très apprécié des personnes à l'o
 rganisme fragile qui ont des difficultés à digérer les crudités à
  cause des fibres trop dures. Les produits lactofermentés consommés 
 crus nous apportent des bactéries précieuses favorisant l'équilibre
  physiologique de la flore intestinale. Un fonctionnement optimum des 
 intestins favorise un bon état de santé.\n\n\nPour plus d'informatio
 n, aller sur https://epanews.fr/events/conference-gratuite
DTSTART;TZID=Europe/Paris:20160606T201500
DTEND;TZID=Europe/Paris:20160606T230000
CATEGORIES:37
LOCATION:A2ME
WEBSITE:http://www.a2me-materiauxecologiques.com/contact-p0-R11.html
URL:http://www.a2me-materiauxecologiques.com/contact-p0-R11.html
CONTACT:07 58 12 57 49
ORGANIZER:MARIE CLAUDE VINCENDEAU ET SEBASTIEN PELE
ATTACH;FMTTYPE="image/jpeg":http://storage.ning.com/topology/rest/1.0/
 file/get/1663574125?profile=original
ATTENDEE;ROLE=REQ-PARTICIPANT;PARTSTAT=ACCEPTED;RSVP=TRUE;CN="MARIE CL
 AUDE VINCENDEAU":https://epanews.fr/profile/MARIECLAUDEVINCENDEAU
END:VEVENT
END:VCALENDAR
