BEGIN:VCALENDAR
PRODID:NingEventWidget-v1
VERSION:2.0
METHOD:PUBLISH
BEGIN:VTIMEZONE
TZID:Europe/Paris
X-LIC-LOCATION:Europe/Paris
BEGIN:DAYLIGHT
TZOFFSETFROM:+0100
TZOFFSETTO:+0200
TZNAME:CEST
DTSTART:19700329T020000
RRULE:FREQ=YEARLY;BYMONTH=3;BYDAY=-1SU
END:DAYLIGHT
BEGIN:STANDARD
TZOFFSETFROM:+0200
TZOFFSETTO:+0100
TZNAME:CET
DTSTART:19701025T030000
RRULE:FREQ=YEARLY;BYMONTH=10;BYDAY=-1SU
END:STANDARD
END:VTIMEZONE
BEGIN:VEVENT
UID:2485226:Event:2919235
DTSTAMP:20260420T140152Z
SUMMARY:conference gratuite le détachement de traumatsmes
DESCRIPTION:Conférence gratuite le détachement de traumatismes par J
 acqueline Bachle Jeudi 25 janvier 2018 à 18h30\nQu'est-ce que le dét
 achement de traumatismes?Cette technique issue de la PNL, de l'EMDR, d
 e l'hypnose Ericksonienne est une technique puissante, rapide et effic
 ace qui déprogramme définitivement les émotions négatives présent
 es ici et maintenant et suscitées par des situations, des évènement
 s vécus par le passé ou anticipés dans le futur.\nDeuils insurmonta
 blesTristesse - ColèresPeurs - Phobies - TocsManque de confiance en s
 oiEchecs - RépétitionsDépressions - angoissesTroubles du sommeilAdd
 ictionset bien d'autres choses encore\nTous ces maux qui font des rava
 ges dans notre vie\nInterprétation gratuite des tests\nRéservationsN
 adège 06.23.01.35.96larcencieldupartage@gmail.com\nLieu : L'arc en ci
 el du partage1 rue garancière 11100 narbonnewww.larcenceldupartage.or
 g\n\nPour plus d'information, aller sur https://epanews.fr/events/conf
 erence-gratuite-le-d-tachement-de-traumatsmes
DTSTART;TZID=Europe/Paris:20180125T183000
DTEND;TZID=Europe/Paris:20180125T200000
CATEGORIES:11
LOCATION:narbonne
WEBSITE:http://www.larcencieldupartage.org
URL:http://www.larcencieldupartage.org
CONTACT:0623013596
ORGANIZER;CN="L'arc en ciel du partage":https://epanews.fr/profile/Lar
 cencieldupartage
ATTACH;FMTTYPE="image/jpeg":http://storage.ning.com/topology/rest/1.0/
 file/get/1663708564?profile=original
ATTENDEE;ROLE=REQ-PARTICIPANT;PARTSTAT=ACCEPTED;RSVP=TRUE;CN="L'arc en
  ciel du partage":https://epanews.fr/profile/Larcencieldupartage
END:VEVENT
END:VCALENDAR
