BEGIN:VCALENDAR
PRODID:NingEventWidget-v1
VERSION:2.0
METHOD:PUBLISH
BEGIN:VTIMEZONE
TZID:Europe/Paris
X-LIC-LOCATION:Europe/Paris
BEGIN:DAYLIGHT
TZOFFSETFROM:+0100
TZOFFSETTO:+0200
TZNAME:CEST
DTSTART:19700329T020000
RRULE:FREQ=YEARLY;BYMONTH=3;BYDAY=-1SU
END:DAYLIGHT
BEGIN:STANDARD
TZOFFSETFROM:+0200
TZOFFSETTO:+0100
TZNAME:CET
DTSTART:19701025T030000
RRULE:FREQ=YEARLY;BYMONTH=10;BYDAY=-1SU
END:STANDARD
END:VTIMEZONE
BEGIN:VEVENT
UID:2485226:Event:52376
DTSTAMP:20260420T005751Z
SUMMARY:CONFERENCE GRATUITE: La Marche, un allié pour ma Santé!
DESCRIPTION:CONFERENCE – DEBAT le 11mai 18h 30 -20H au Parc des Spor
 ts (Chapiteau) à Narbonne\n\n« La MARCHE, un allié pour ma santé !
  »- Pas à pas, re-trouver le plaisir de « marcher ».\n- Comment pa
 sser d’un mode de vie sédentaire à actif ?\n- La découverte d’u
 n champ de possibles dans sa ville\n\nObjectifs :\n« Marcher » pour 
 préserver sa Santé et être bien dans sa vie\n\nContenus :\nAu cours
  de cette conférence il vous sera proposé de :\n- Généralités phi
 losophiques et sur la Définition de l’Activité Physique Marche\n- 
 de prendre conscience des bienfaits de la Marche pour sa santé,\n- ma
 rcher oui mais comment ?\n- différents types de marche\n- recommandat
 ion et repères santé\n- instant de pratique\net remise de plusieurs 
 surprises\n\nIntervenants : IsaBelle GAUBERT, Master 2 santé Publique
  Activité Physiques Adaptés à la Prévention et O. Coste, médecin 
 conseil DRDJCS Languedoc Roussillon\n\nTarif :\nGratuit pour les parti
 cipants\n\nPour tous renseignements: IsaBelle 06 81 09 15 78\n\nPour p
 lus d'information, aller sur https://epanews.fr/events/conference-grat
 uite-la-marche
DTSTART;TZID=Europe/Paris:20100511T183000
DTEND;TZID=Europe/Paris:20100511T200000
CATEGORIES:11
LOCATION:Parc des Sports ( Chapiteau)
WEBSITE:
URL:
CONTACT:06 81 09 15 78
ORGANIZER;CN="GAUBERT Isabelle":https://epanews.fr/profile/GAUBERTIsab
 elle
ATTACH;FMTTYPE="image/jpeg":http://storage.ning.com/topology/rest/1.0/
 file/get/1662298810?profile=original
ATTENDEE;ROLE=REQ-PARTICIPANT;PARTSTAT=ACCEPTED;RSVP=TRUE;CN="GAUBERT 
 Isabelle":https://epanews.fr/profile/GAUBERTIsabelle
END:VEVENT
END:VCALENDAR
