BEGIN:VCALENDAR
PRODID:NingEventWidget-v1
VERSION:2.0
METHOD:PUBLISH
BEGIN:VTIMEZONE
TZID:Europe/Paris
X-LIC-LOCATION:Europe/Paris
BEGIN:DAYLIGHT
TZOFFSETFROM:+0100
TZOFFSETTO:+0200
TZNAME:CEST
DTSTART:19700329T020000
RRULE:FREQ=YEARLY;BYMONTH=3;BYDAY=-1SU
END:DAYLIGHT
BEGIN:STANDARD
TZOFFSETFROM:+0200
TZOFFSETTO:+0100
TZNAME:CET
DTSTART:19701025T030000
RRULE:FREQ=YEARLY;BYMONTH=10;BYDAY=-1SU
END:STANDARD
END:VTIMEZONE
BEGIN:VEVENT
UID:2485226:Event:190499
DTSTAMP:20260422T013734Z
SUMMARY:Conférence et dédicace à Toulon
DESCRIPTION:Après-midi autour de l'amour à la librairie Charlemagne 
 de Toulon\n\nPour plus d'information, aller sur https://epanews.fr/eve
 nts/conference-et-dedicace-a
DTSTART;TZID=Europe/Paris:20110129T140000
DTEND;TZID=Europe/Paris:20110129T190000
CATEGORIES:83
LOCATION:Toulon
WEBSITE:
URL:
CONTACT:0494622288
ORGANIZER;CN=cafedelamour:https://epanews.fr/profile/cafedelamour
ATTACH;FMTTYPE="image/jpeg":
ATTENDEE;ROLE=REQ-PARTICIPANT;PARTSTAT=ACCEPTED;RSVP=TRUE;CN=cafedelam
 our:https://epanews.fr/profile/cafedelamour
ATTENDEE;ROLE=REQ-PARTICIPANT;PARTSTAT=TENTATIVE;RSVP=TRUE;CN=Faby:htt
 ps://epanews.fr/profile/baryga
END:VEVENT
END:VCALENDAR
