BEGIN:VCALENDAR
PRODID:NingEventWidget-v1
VERSION:2.0
METHOD:PUBLISH
BEGIN:VTIMEZONE
TZID:Europe/Paris
X-LIC-LOCATION:Europe/Paris
BEGIN:DAYLIGHT
TZOFFSETFROM:+0100
TZOFFSETTO:+0200
TZNAME:CEST
DTSTART:19700329T020000
RRULE:FREQ=YEARLY;BYMONTH=3;BYDAY=-1SU
END:DAYLIGHT
BEGIN:STANDARD
TZOFFSETFROM:+0200
TZOFFSETTO:+0100
TZNAME:CET
DTSTART:19701025T030000
RRULE:FREQ=YEARLY;BYMONTH=10;BYDAY=-1SU
END:STANDARD
END:VTIMEZONE
BEGIN:VEVENT
UID:2485226:Event:218180
DTSTAMP:20260420T135631Z
SUMMARY:Conférence \"Développer l'abondance dans votre vie\" à Sain
 t-Etienne
DESCRIPTION:30 mars : 19h45 à SAINT ETIENNE (magasin VIVRE VRAI)Pa
 rticipation 5€Créez les conditions de réalisation de vos souhaits 
 les plus profonds et apprenez à éliminer vos résistancesEn prépara
 tion à notre stage des 28 et 29 maiprésentation de la loi d’attrac
 tionet de techniques de libération des énergiesune constellation fam
 iliale sera proposéeConference-30-et-31-mars.pdfMerci à Denise pour 
 son aide aussi précieuse qu'efficace dans le montage de cet évêneme
 nt\n\nPour plus d'information, aller sur https://epanews.fr/events/con
 ference-developper-1
DTSTART;TZID=Europe/Paris:20110330T194500
DTEND;TZID=Europe/Paris:20110330T220000
CATEGORIES:42
LOCATION:SAINT ETIENNE
WEBSITE:http://www.lefildariane.eu
URL:http://www.lefildariane.eu
CONTACT:06 18 86 02 10 - 02 38 560 560
ORGANIZER;CN="Hervé Robbes":https://epanews.fr/profile/HerveRobbes
ATTACH;FMTTYPE="image/jpeg":http://storage.ning.com/topology/rest/1.0/
 file/get/1662392174?profile=original
ATTENDEE;ROLE=REQ-PARTICIPANT;PARTSTAT=ACCEPTED;RSVP=TRUE;CN="Isabelle
   SEGUIN":https://epanews.fr/profile/IsabelleSEGUINROBBES
ATTENDEE;ROLE=REQ-PARTICIPANT;PARTSTAT=ACCEPTED;RSVP=TRUE;CN="Hervé R
 obbes":https://epanews.fr/profile/HerveRobbes
END:VEVENT
END:VCALENDAR
