BEGIN:VCALENDAR
PRODID:NingEventWidget-v1
VERSION:2.0
METHOD:PUBLISH
BEGIN:VTIMEZONE
TZID:Europe/Paris
X-LIC-LOCATION:Europe/Paris
BEGIN:DAYLIGHT
TZOFFSETFROM:+0100
TZOFFSETTO:+0200
TZNAME:CEST
DTSTART:19700329T020000
RRULE:FREQ=YEARLY;BYMONTH=3;BYDAY=-1SU
END:DAYLIGHT
BEGIN:STANDARD
TZOFFSETFROM:+0200
TZOFFSETTO:+0100
TZNAME:CET
DTSTART:19701025T030000
RRULE:FREQ=YEARLY;BYMONTH=10;BYDAY=-1SU
END:STANDARD
END:VTIMEZONE
BEGIN:VEVENT
UID:2485226:Event:321684
DTSTAMP:20260420T130511Z
SUMMARY:Conférence Débat \"Vivre est un art\" avec Frédéric LENOIR
DESCRIPTION:Au festival des Nouveaux Mondes du 6 au 14 juillet 2011\nV
 endredi 8 juillet\n20h CONFERENCE DEBAT « Vivre est un art » avec 
 FREDERIC LENOIR, philosophe, sociologue, directeur du Monde des religi
 ons et auteur de nombreux écrits dont « Le Livre des sagesses », 
 « Socrate, Jésus, Bouddha», « La rencontre du bouddhisme et de l
 ’occident » etc… Rencontre autour de son dernier ouvrage « Pet
 it traité de vie intérieure » et signature de ses livres. 15€/12
 € adhérent ou famille. Buffet autour de l’auteur sur place.\n\nPo
 ur plus d'information, aller sur https://epanews.fr/events/conference-
 debat-vivre-est-un-1
DTSTART;TZID=Europe/Paris:20110708T200000
DTEND;TZID=Europe/Paris:20110708T220000
CATEGORIES:tous
LOCATION:CASSIS 13260
WEBSITE:http://www.associationlesnouveauxmondes.com
URL:http://www.associationlesnouveauxmondes.com
CONTACT:C Culturel 04 42 01 77 73/asso 06 14 65 04 48
ORGANIZER;CN="Association Les Nouveaux Mondes":https://epanews.fr/prof
 ile/AssociationLesNouveauxMondes
ATTACH;FMTTYPE="image/jpeg":http://storage.ning.com/topology/rest/1.0/
 file/get/1662422639?profile=original
ATTENDEE;ROLE=REQ-PARTICIPANT;PARTSTAT=ACCEPTED;RSVP=TRUE;CN="Associat
 ion Les Nouveaux Mondes":https://epanews.fr/profile/AssociationLesNouv
 eauxMondes
END:VEVENT
END:VCALENDAR
