BEGIN:VCALENDAR
PRODID:NingEventWidget-v1
VERSION:2.0
METHOD:PUBLISH
BEGIN:VTIMEZONE
TZID:Europe/Paris
X-LIC-LOCATION:Europe/Paris
BEGIN:DAYLIGHT
TZOFFSETFROM:+0100
TZOFFSETTO:+0200
TZNAME:CEST
DTSTART:19700329T020000
RRULE:FREQ=YEARLY;BYMONTH=3;BYDAY=-1SU
END:DAYLIGHT
BEGIN:STANDARD
TZOFFSETFROM:+0200
TZOFFSETTO:+0100
TZNAME:CET
DTSTART:19701025T030000
RRULE:FREQ=YEARLY;BYMONTH=10;BYDAY=-1SU
END:STANDARD
END:VTIMEZONE
BEGIN:VEVENT
UID:2485226:Event:322046
DTSTAMP:20260420T111555Z
SUMMARY:ConfÃ©rence dÃ©bat Vision d'un amÃ©rindien sur l'occident et l
 'Europe avec Don MARCELINO
DESCRIPTION:au Festival des Nouveaux Mondes 2011 Ã  Cassis du 6 au 14 
 juillet 2011\nDimanche 10 juillet\n20h CONFERENCE DEBAT Â«Â Vision dâ€
 ™un amÃ©rindien sur lâ€™Occident et lâ€™EuropeÂ Â» avec DON MARCELINO,
  homme de connaissance amÃ©rindien, guide et Ã©crivain. 15â‚¬/12â‚¬ ad
 hÃ©rent ou famille.\n\nPour plus d'information, aller sur https://epan
 ews.fr/events/conference-debat-vision-dun
DTSTART;TZID=Europe/Paris:20110710T200000
DTEND;TZID=Europe/Paris:20110710T223000
CATEGORIES:tous
LOCATION:CASSIS 13260
WEBSITE:http://www.associationlesnouveauxmondes.com
URL:http://www.associationlesnouveauxmondes.com
CONTACT:C Culturel 04 42 01 77 73/asso 06 14 65 04 48
ORGANIZER;CN="Association Les Nouveaux Mondes":https://epanews.fr/prof
 ile/AssociationLesNouveauxMondes
ATTACH;FMTTYPE="image/jpeg":http://storage.ning.com/topology/rest/1.0/
 file/get/1662422145?profile=original
ATTENDEE;ROLE=REQ-PARTICIPANT;PARTSTAT=ACCEPTED;RSVP=TRUE;CN="Associat
 ion Les Nouveaux Mondes":https://epanews.fr/profile/AssociationLesNouv
 eauxMondes
END:VEVENT
END:VCALENDAR
