BEGIN:VCALENDAR
PRODID:NingEventWidget-v1
VERSION:2.0
METHOD:PUBLISH
BEGIN:VTIMEZONE
TZID:Europe/Paris
X-LIC-LOCATION:Europe/Paris
BEGIN:DAYLIGHT
TZOFFSETFROM:+0100
TZOFFSETTO:+0200
TZNAME:CEST
DTSTART:19700329T020000
RRULE:FREQ=YEARLY;BYMONTH=3;BYDAY=-1SU
END:DAYLIGHT
BEGIN:STANDARD
TZOFFSETFROM:+0200
TZOFFSETTO:+0100
TZNAME:CET
DTSTART:19701025T030000
RRULE:FREQ=YEARLY;BYMONTH=10;BYDAY=-1SU
END:STANDARD
END:VTIMEZONE
BEGIN:VEVENT
UID:2485226:Event:356022
DTSTAMP:20260420T112614Z
SUMMARY:ConfÃ©rence dÃ©bat \"Qu'est-cequ'une thÃ©rapie quantique?\"
DESCRIPTION:Au sein du FESTIVAL des NOUVEAUX MONDES 2011\nÂ \n16h Â \n
 CONFERENCE DEBAT Â«Â Quâ€™est-ce quâ€™une thÃ©rapie quantiqueÂ ?Â Â» P
 rÃ©sentation des diffÃ©rentes thÃ©rapies quantiques avec ERIC TOURNIER
 , naturopathe, spÃ©cialiste des groupes sanguins, de la physique quant
 ique, du domaine de l'eau et formateur en thÃ©rapie BEMER.\n15â‚¬/12â‚
 ¬ adhÃ©rent ou famille.\n\nPour plus d'information, aller sur https://
 epanews.fr/events/conference-debat-questcequune
DTSTART;TZID=Europe/Paris:20110712T160000
DTEND;TZID=Europe/Paris:20110712T180000
CATEGORIES:tous
LOCATION:CASSIS 13260
WEBSITE:http://www.associationlesnouveauxmondes.com
URL:http://www.associationlesnouveauxmondes.com
CONTACT:C Culturel 04 42 01 77 73/asso 06 14 65 04 48
ORGANIZER;CN="Association Les Nouveaux Mondes":https://epanews.fr/prof
 ile/AssociationLesNouveauxMondes
ATTACH;FMTTYPE="image/jpeg":http://storage.ning.com/topology/rest/1.0/
 file/get/1662428210?profile=original
ATTENDEE;ROLE=REQ-PARTICIPANT;PARTSTAT=ACCEPTED;RSVP=TRUE;CN="Associat
 ion Les Nouveaux Mondes":https://epanews.fr/profile/AssociationLesNouv
 eauxMondes
END:VEVENT
END:VCALENDAR
