BEGIN:VCALENDAR
PRODID:NingEventWidget-v1
VERSION:2.0
METHOD:PUBLISH
BEGIN:VTIMEZONE
TZID:Europe/Paris
X-LIC-LOCATION:Europe/Paris
BEGIN:DAYLIGHT
TZOFFSETFROM:+0100
TZOFFSETTO:+0200
TZNAME:CEST
DTSTART:19700329T020000
RRULE:FREQ=YEARLY;BYMONTH=3;BYDAY=-1SU
END:DAYLIGHT
BEGIN:STANDARD
TZOFFSETFROM:+0200
TZOFFSETTO:+0100
TZNAME:CET
DTSTART:19701025T030000
RRULE:FREQ=YEARLY;BYMONTH=10;BYDAY=-1SU
END:STANDARD
END:VTIMEZONE
BEGIN:VEVENT
UID:2485226:Event:321831
DTSTAMP:20260420T111600Z
SUMMARY:Conférence Débat \"La tradition initiatique occidentale et l
 a langue des oiseaux\" avec Jérmie GUERY
DESCRIPTION:Au Festival des Nouveaux Mondes à Cassis du 6 au 14 juill
 et\nLUNDI 11 JUILLET:\n20h  CONFERENCE DEBAT « La tradition initiat
 ique occidentale et la langue des oiseaux» avec JEREMIE GUERY, thér
 apeute formateur, initié au symbolisme et à l’ésotérisme occiden
 tal. Découvrir la force vibratoire du son et apprendre à utiliser ce
 tte langue de l’esprit qui était l’apanage des alchimistes et des
  bâtisseurs de cathédrales. 15€/12€ adhérent ou famille.\n\nPou
 r plus d'information, aller sur https://epanews.fr/events/conference-d
 ebat-la-tradition
DTSTART;TZID=Europe/Paris:20110711T200000
DTEND;TZID=Europe/Paris:20110711T223000
CATEGORIES:tous
LOCATION:CASSIS 13260
WEBSITE:http://www.associationlesnouveauxmondes.com
URL:http://www.associationlesnouveauxmondes.com
CONTACT:C Culturel 04 42 01 77 73/asso 06 14 65 04 48
ORGANIZER;CN="Association Les Nouveaux Mondes":https://epanews.fr/prof
 ile/AssociationLesNouveauxMondes
ATTACH;FMTTYPE="image/jpeg":http://storage.ning.com/topology/rest/1.0/
 file/get/1662421779?profile=original
ATTENDEE;ROLE=REQ-PARTICIPANT;PARTSTAT=ACCEPTED;RSVP=TRUE;CN="Associat
 ion Les Nouveaux Mondes":https://epanews.fr/profile/AssociationLesNouv
 eauxMondes
END:VEVENT
END:VCALENDAR
