BEGIN:VCALENDAR
PRODID:NingEventWidget-v1
VERSION:2.0
METHOD:PUBLISH
BEGIN:VTIMEZONE
TZID:Europe/Paris
X-LIC-LOCATION:Europe/Paris
BEGIN:DAYLIGHT
TZOFFSETFROM:+0100
TZOFFSETTO:+0200
TZNAME:CEST
DTSTART:19700329T020000
RRULE:FREQ=YEARLY;BYMONTH=3;BYDAY=-1SU
END:DAYLIGHT
BEGIN:STANDARD
TZOFFSETFROM:+0200
TZOFFSETTO:+0100
TZNAME:CET
DTSTART:19701025T030000
RRULE:FREQ=YEARLY;BYMONTH=10;BYDAY=-1SU
END:STANDARD
END:VTIMEZONE
BEGIN:VEVENT
UID:2485226:Event:980774
DTSTAMP:20260421T184839Z
SUMMARY:Conference/débat : l'ennéagramme ou les 9 manières d'aimer
DESCRIPTION:bonjour a vous\n \n\n \nPour ceux qui connaissent un peu
  l'ennéagramme cette conférence portera plus spécifiquement sur l'a
 pproche amoureuse de chaque type, les sourires seront au rendez-vous.\
 n Pour ceux qui ne connaissent pas je rappelle que l'ennéagramme est 
 une connaissance qui aborde l'être humain sur le plan psychologique e
 t spirituel . Elle décrit les différentes croyances et comportements
  des êtres humains selon leurs types et leurs niveaux de conscience.\
 nCette connaissance permet de mieux se connaitre et comprendre les aut
 res mais surtout elle permet de mieux s'accepter, et guérir ses bless
 ures par une compréhension profonde des mécanismes plus ou moins inc
 onscients qui nous animent.\n \nLe prix est de 5 euros, merci de pré
 venir de votre venue par mail.   itierchristof@yahoo.fr\n \n\nPour 
 plus d'information, aller sur https://epanews.fr/events/conference-d-b
 at-l-enn-agramme-ou-les-9-mani-res-d-aimer
DTSTART;TZID=Europe/Paris:20121024T203000
DTEND;TZID=Europe/Paris:20121024T223000
CATEGORIES:31
LOCATION:toulouse
WEBSITE:
URL:
CONTACT:0689604147
ORGANIZER;CN="itier christophe":https://epanews.fr/profile/itierchrist
 ophe
ATTACH;FMTTYPE="image/jpeg":http://storage.ning.com/topology/rest/1.0/
 file/get/1662683106?profile=original
ATTENDEE;ROLE=REQ-PARTICIPANT;PARTSTAT=ACCEPTED;RSVP=TRUE;CN="SCOLARO 
 Isabelle":https://epanews.fr/profile/SCOLAROIsabelle
ATTENDEE;ROLE=REQ-PARTICIPANT;PARTSTAT=ACCEPTED;RSVP=TRUE;CN="New Soph
 ie":https://epanews.fr/profile/NewSophie
ATTENDEE;ROLE=REQ-PARTICIPANT;PARTSTAT=ACCEPTED;RSVP=TRUE;CN="itier ch
 ristophe":https://epanews.fr/profile/itierchristophe
ATTENDEE;ROLE=REQ-PARTICIPANT;PARTSTAT=TENTATIVE;RSVP=TRUE;CN=Marie:ht
 tps://epanews.fr/profile/Marie
ATTENDEE;ROLE=REQ-PARTICIPANT;PARTSTAT=TENTATIVE;RSVP=TRUE;CN="JARRAR 
 Hédi":https://epanews.fr/profile/JARRARHedi
END:VEVENT
END:VCALENDAR
