BEGIN:VCALENDAR
PRODID:NingEventWidget-v1
VERSION:2.0
METHOD:PUBLISH
BEGIN:VTIMEZONE
TZID:Europe/Paris
X-LIC-LOCATION:Europe/Paris
BEGIN:DAYLIGHT
TZOFFSETFROM:+0100
TZOFFSETTO:+0200
TZNAME:CEST
DTSTART:19700329T020000
RRULE:FREQ=YEARLY;BYMONTH=3;BYDAY=-1SU
END:DAYLIGHT
BEGIN:STANDARD
TZOFFSETFROM:+0200
TZOFFSETTO:+0100
TZNAME:CET
DTSTART:19701025T030000
RRULE:FREQ=YEARLY;BYMONTH=10;BYDAY=-1SU
END:STANDARD
END:VTIMEZONE
BEGIN:VEVENT
UID:2485226:Event:133989
DTSTAMP:20260421T023949Z
SUMMARY:Conférence: \"Comment aborder l'hiver en pleine forme grâce 
 au décodage biologique et au massage ayurvédique\"
DESCRIPTION:Nombre d'entre nous ont tendance à être fatigué à l'ap
 proche de l'hiver, et supportent moins bien les situations de \"stress
 \".\nEn y portant un regard \"biologique\" et y associant le massage a
 yurvédique, cela nous permet de changer le \"programme fatigue\" en \
 "programme vitalité\" pour passer un hiver serein...\n\nParticipation
  aux frais: 7 €uros\nInscription au 04 94 46 71 02 (Nombre de places
  limité à 20)\n\nPour plus d'information, aller sur https://epanews.
 fr/events/conference-comment-aborder
DTSTART;TZID=Europe/Paris:20101118T190000
DTEND;TZID=Europe/Paris:20101118T203000
CATEGORIES:83, 13, 06
LOCATION:librairie \"l'Espace des Possibles\"
WEBSITE:http://maps.google.com/maps?f=q&source=s_q&hl=fr&geocode=&q=7+
 Rue+des+Boucheries,+Toulon,+France&sll=37.0625,-95.677068&sspn=42.4458
 66,75.761719&ie=UTF8&hq=&hnear=7+Rue+des+Boucheries,+83000+Toulon,+Var
 ,+Provence-Alpes-C%C3%B4te+d'Azur,+France&z=16
URL:http://maps.google.com/maps?f=q&source=s_q&hl=fr&geocode=&q=7+Rue+
 des+Boucheries,+Toulon,+France&sll=37.0625,-95.677068&sspn=42.445866,7
 5.761719&ie=UTF8&hq=&hnear=7+Rue+des+Boucheries,+83000+Toulon,+Var,+Pr
 ovence-Alpes-C%C3%B4te+d'Azur,+France&z=16
CONTACT:04 94 46 71 02
ORGANIZER;CN="biotom83 (Thomas Voisin)":https://epanews.fr/profile/bio
 tom84
ATTACH;FMTTYPE="image/jpeg":http://storage.ning.com/topology/rest/1.0/
 file/get/1662347617?profile=original
ATTENDEE;ROLE=REQ-PARTICIPANT;PARTSTAT=ACCEPTED;RSVP=TRUE;CN="biotom83
  (Thomas Voisin)":https://epanews.fr/profile/biotom84
END:VEVENT
END:VCALENDAR
