BEGIN:VCALENDAR
PRODID:NingEventWidget-v1
VERSION:2.0
METHOD:PUBLISH
BEGIN:VTIMEZONE
TZID:Europe/Paris
X-LIC-LOCATION:Europe/Paris
BEGIN:DAYLIGHT
TZOFFSETFROM:+0100
TZOFFSETTO:+0200
TZNAME:CEST
DTSTART:19700329T020000
RRULE:FREQ=YEARLY;BYMONTH=3;BYDAY=-1SU
END:DAYLIGHT
BEGIN:STANDARD
TZOFFSETFROM:+0200
TZOFFSETTO:+0100
TZNAME:CET
DTSTART:19701025T030000
RRULE:FREQ=YEARLY;BYMONTH=10;BYDAY=-1SU
END:STANDARD
END:VTIMEZONE
BEGIN:VEVENT
UID:2485226:Event:137721
DTSTAMP:20260420T024934Z
SUMMARY:Conférence: \"Comment aborder l'hiver en pleine forme grâce 
 au décodage biologique et au massage ayurvédique\"
DESCRIPTION:Nombre d'entre nous ont tendance à être fatigué à l'ap
 proche de l'hiver, et supportent moins bien les situations de \"stress
 \".\nEn y portant un regard \"biologique\" et y associant le massage a
 yurvédique, cela nous permet de changer le \"programme fatigue\" en \
 "programme vitalité\" pour passer un hiver serein...\n\nParticipation
  aux frais: 7 €uros\nInscription au 04 94 75 50 10 (Nombre de places
  limitées)\n\nConférence suivie de consultations et massages\n\nPour
  plus d'information, aller sur https://epanews.fr/events/conference-co
 mment-aborder-1
DTSTART;TZID=Europe/Paris:20101120T153000
DTEND;TZID=Europe/Paris:20101120T170000
CATEGORIES:83, 13, 06
LOCATION:Côté Bio
WEBSITE:http://maps.google.fr/maps?q=2384+avenue+Joseph+Gasquet+toulon
 &um=1&ie=UTF-8&hq=&hnear=2384+Avenue+Joseph+Gasquet,+83100+Toulon&gl=f
 r&ei=rDzATKiyCsS54AbPyKHkCw&sa=X&oi=geocode_result&ct=title&resnum=1&v
 ed=0CBYQ8gEwAA
URL:http://maps.google.fr/maps?q=2384+avenue+Joseph+Gasquet+toulon&um=
 1&ie=UTF-8&hq=&hnear=2384+Avenue+Joseph+Gasquet,+83100+Toulon&gl=fr&ei
 =rDzATKiyCsS54AbPyKHkCw&sa=X&oi=geocode_result&ct=title&resnum=1&ved=0
 CBYQ8gEwAA
CONTACT:04 94 75 50 10
ORGANIZER;CN="biotom83 (Thomas Voisin)":https://epanews.fr/profile/bio
 tom84
ATTACH;FMTTYPE="image/jpeg":http://storage.ning.com/topology/rest/1.0/
 file/get/1662350808?profile=original
ATTENDEE;ROLE=REQ-PARTICIPANT;PARTSTAT=ACCEPTED;RSVP=TRUE;CN=Marie:htt
 ps://epanews.fr/profile/Marie830
ATTENDEE;ROLE=REQ-PARTICIPANT;PARTSTAT=ACCEPTED;RSVP=TRUE;CN="biotom83
  (Thomas Voisin)":https://epanews.fr/profile/biotom84
ATTENDEE;ROLE=REQ-PARTICIPANT;PARTSTAT=TENTATIVE;RSVP=TRUE;CN=BAYAHIBA
 Y:https://epanews.fr/profile/CorynneRipoll
ATTENDEE;ROLE=REQ-PARTICIPANT;PARTSTAT=TENTATIVE;RSVP=TRUE;CN=AMBRE:ht
 tps://epanews.fr/profile/AMBRE721
END:VEVENT
END:VCALENDAR
