BEGIN:VCALENDAR
PRODID:NingEventWidget-v1
VERSION:2.0
METHOD:PUBLISH
BEGIN:VTIMEZONE
TZID:Europe/Paris
X-LIC-LOCATION:Europe/Paris
BEGIN:DAYLIGHT
TZOFFSETFROM:+0100
TZOFFSETTO:+0200
TZNAME:CEST
DTSTART:19700329T020000
RRULE:FREQ=YEARLY;BYMONTH=3;BYDAY=-1SU
END:DAYLIGHT
BEGIN:STANDARD
TZOFFSETFROM:+0200
TZOFFSETTO:+0100
TZNAME:CET
DTSTART:19701025T030000
RRULE:FREQ=YEARLY;BYMONTH=10;BYDAY=-1SU
END:STANDARD
END:VTIMEZONE
BEGIN:VEVENT
UID:2485226:Event:138643
DTSTAMP:20260424T132330Z
SUMMARY:Conférence Chakras Cristal
DESCRIPTION:Conférence \"CHAKRAS CRISTAL\"\n« la Médecine de l'âm
 e »\n\nThèmes développés :\n\nPrésentation de la méthode de soi
 n :\n\n* La lecture vibratoire « diagnostic » en 3D : physique,\nc
 onscience et vibratoire.\n\n* L'importance du système endocrinien.\n\
 n* Traitement de la maladie par l'action directe sur les corps physiqu
 e, astral et mental.\n\nDéveloppement personnel :\n\n* Accès au mond
 e de l'invisible (annales akkachiques, plan karmique...).\n\n* Travail
  de conscience (vies antérieures, choix de l'âme...).\n\n* Rétablis
 sement du dialogue Ame/Personnalité.\n\n* Changement et équilibre é
 nergétique ainsi que du taux de fréquence.\n\nPour plus d'informatio
 n, aller sur https://epanews.fr/events/conference-chakras-cristal
DTSTART;TZID=Europe/Paris:20110121T200000
DTEND;TZID=Europe/Paris:20110121T220000
CATEGORIES:74, 73, 01
LOCATION:ANNECY
WEBSITE:http://www.chakrascristal.fr
URL:http://www.chakrascristal.fr
CONTACT:BRIGITTE 06/87/97/17/07
ORGANIZER:VERONIQUE SOLANA
ATTACH;FMTTYPE="image/jpeg":http://storage.ning.com/topology/rest/1.0/
 file/get/1662353215?profile=original
ATTENDEE;ROLE=REQ-PARTICIPANT;PARTSTAT=ACCEPTED;RSVP=TRUE;CN="ecole de
  l'alchimiste":https://epanews.fr/profile/ecoledelalchimiste
END:VEVENT
END:VCALENDAR
