BEGIN:VCALENDAR
PRODID:NingEventWidget-v1
VERSION:2.0
METHOD:PUBLISH
BEGIN:VTIMEZONE
TZID:Europe/Paris
X-LIC-LOCATION:Europe/Paris
BEGIN:DAYLIGHT
TZOFFSETFROM:+0100
TZOFFSETTO:+0200
TZNAME:CEST
DTSTART:19700329T020000
RRULE:FREQ=YEARLY;BYMONTH=3;BYDAY=-1SU
END:DAYLIGHT
BEGIN:STANDARD
TZOFFSETFROM:+0200
TZOFFSETTO:+0100
TZNAME:CET
DTSTART:19701025T030000
RRULE:FREQ=YEARLY;BYMONTH=10;BYDAY=-1SU
END:STANDARD
END:VTIMEZONE
BEGIN:VEVENT
UID:2485226:Event:195306
DTSTAMP:20260423T170559Z
SUMMARY:conférence Chakras Cristal
DESCRIPTION:Présentation de la méthode de soin :\n\nla lecture vibr
 atoire \"diagnostic\" en 3D : physique, conscience et vibratoire.\nL'i
 mportance du système endocrinien.\nTraitement de la maladie par l'act
 ion directe sur les corps physique, astral et mental.\n\nDéveloppemen
 t personnel :\n\nAccès au monde de l'invisible (annales akkachiques, 
 plan karmique...)\n\nTravail de conscience (vies antérieures, choix d
 e l'âme...)\nRétablissement du dialogue Ame/Personnalité.\nChangeme
 nt et équilibre énergétique ainsi que du taux de fréquence.\n\n(en
 trée 8 €)\n\nPour plus d'information, aller sur https://epanews.fr/
 events/conference-chakras-cristal-2
DTSTART;TZID=Europe/Paris:20110318T200000
DTEND;TZID=Europe/Paris:20110318T220000
CATEGORIES:74, 73, 01, 39
LOCATION:ANNECY
WEBSITE:http://www.chakrascristal.fr
URL:http://www.chakrascristal.fr
CONTACT:Veronique : 06.23.10.08.34
ORGANIZER;CN="ecole de l'alchimiste":https://epanews.fr/profile/ecoled
 elalchimiste
ATTACH;FMTTYPE="image/jpeg":
ATTENDEE;ROLE=REQ-PARTICIPANT;PARTSTAT=ACCEPTED;RSVP=TRUE;CN="ecole de
  l'alchimiste":https://epanews.fr/profile/ecoledelalchimiste
END:VEVENT
END:VCALENDAR
