BEGIN:VCALENDAR
PRODID:NingEventWidget-v1
VERSION:2.0
METHOD:PUBLISH
BEGIN:VTIMEZONE
TZID:Europe/Paris
X-LIC-LOCATION:Europe/Paris
BEGIN:DAYLIGHT
TZOFFSETFROM:+0100
TZOFFSETTO:+0200
TZNAME:CEST
DTSTART:19700329T020000
RRULE:FREQ=YEARLY;BYMONTH=3;BYDAY=-1SU
END:DAYLIGHT
BEGIN:STANDARD
TZOFFSETFROM:+0200
TZOFFSETTO:+0100
TZNAME:CET
DTSTART:19701025T030000
RRULE:FREQ=YEARLY;BYMONTH=10;BYDAY=-1SU
END:STANDARD
END:VTIMEZONE
BEGIN:VEVENT
UID:2485226:Event:1603162
DTSTAMP:20260424T004308Z
SUMMARY:Conférence au salon Naturissima de Grenoble
DESCRIPTION:Venez nombreux assister à la conférence sur \"Ayurvéda 
 et approche quantique du bien-être\" que j'animerai au salon Naturiss
 ima à Alpexpo, stand MNEI le mercredi 27 novembre à 11h30 !\n http:/
 /www.naturissima.com/salon-naturissima.html\n\nPour plus d'information
 , aller sur https://epanews.fr/events/conference-au-salon-naturissima-
 de-grenoble
DTSTART;TZID=Europe/Paris:20131127T113000
DTEND;TZID=Europe/Paris:20131127T123000
CATEGORIES:38
LOCATION:Grenoble
WEBSITE:http://www.alpexpo.com/
URL:http://www.alpexpo.com/
CONTACT:
ORGANIZER;CN="Karl Di Foggia":https://epanews.fr/profile/KarlDiFoggia
ATTACH;FMTTYPE="image/jpeg":http://storage.ning.com/topology/rest/1.0/
 file/get/1662958891?profile=original
ATTENDEE;ROLE=REQ-PARTICIPANT;PARTSTAT=ACCEPTED;RSVP=TRUE;CN="Karl Di 
 Foggia":https://epanews.fr/profile/KarlDiFoggia
END:VEVENT
END:VCALENDAR
