BEGIN:VCALENDAR
PRODID:NingEventWidget-v1
VERSION:2.0
METHOD:PUBLISH
BEGIN:VTIMEZONE
TZID:Europe/Paris
X-LIC-LOCATION:Europe/Paris
BEGIN:DAYLIGHT
TZOFFSETFROM:+0100
TZOFFSETTO:+0200
TZNAME:CEST
DTSTART:19700329T020000
RRULE:FREQ=YEARLY;BYMONTH=3;BYDAY=-1SU
END:DAYLIGHT
BEGIN:STANDARD
TZOFFSETFROM:+0200
TZOFFSETTO:+0100
TZNAME:CET
DTSTART:19701025T030000
RRULE:FREQ=YEARLY;BYMONTH=10;BYDAY=-1SU
END:STANDARD
END:VTIMEZONE
BEGIN:VEVENT
UID:2485226:Event:185436
DTSTAMP:20260424T104410Z
SUMMARY:Conférence atelier : Réveiller l’âme dans le corps par la
  Psychologie Biodynamique
DESCRIPTION:\nLe Drainage Profond n'est pas simplement unmassage. C’
 est une véritable proposition psycho-corporelle qui a pour intentiond
 e réveiller l’âme dans notre matière. Intégrant l’anatomie ém
 otionnelle etspirituelle dans son approche, il laisse s’exprimer la 
 conscience organique etcherche la libération de l'énergie encapsulé
 e dans le corps. Le patientrécupère son ressenti authentique et l'ex
 pression de son essence. S’ouvre alorsun chemin d'enracinement de l'
 adulte sain, dans un monde qui a besoin de notrepleine présence.\n19h
 -22h - 10 euros\nau Centre de Psychologie Biodynamique\n\nPour plus d'
 information, aller sur https://epanews.fr/events/conference-atelier-re
 veiller
DTSTART;TZID=Europe/Paris:20110120T190000
DTEND;TZID=Europe/Paris:20110120T220000
CATEGORIES:34
LOCATION:Montpellier
WEBSITE:
URL:
CONTACT:04 67 22 40 50
ORGANIZER;CN="Ecole Biodynamique":https://epanews.fr/profile/EcoleBiod
 ynamique
ATTACH;FMTTYPE="image/jpeg":http://storage.ning.com/topology/rest/1.0/
 file/get/1662375371?profile=original
ATTENDEE;ROLE=REQ-PARTICIPANT;PARTSTAT=ACCEPTED;RSVP=TRUE;CN="Ecole Bi
 odynamique":https://epanews.fr/profile/EcoleBiodynamique
END:VEVENT
END:VCALENDAR
