BEGIN:VCALENDAR
PRODID:NingEventWidget-v1
VERSION:2.0
METHOD:PUBLISH
BEGIN:VTIMEZONE
TZID:Europe/Paris
X-LIC-LOCATION:Europe/Paris
BEGIN:DAYLIGHT
TZOFFSETFROM:+0100
TZOFFSETTO:+0200
TZNAME:CEST
DTSTART:19700329T020000
RRULE:FREQ=YEARLY;BYMONTH=3;BYDAY=-1SU
END:DAYLIGHT
BEGIN:STANDARD
TZOFFSETFROM:+0200
TZOFFSETTO:+0100
TZNAME:CET
DTSTART:19701025T030000
RRULE:FREQ=YEARLY;BYMONTH=10;BYDAY=-1SU
END:STANDARD
END:VTIMEZONE
BEGIN:VEVENT
UID:2485226:Event:466409
DTSTAMP:20260422T234633Z
SUMMARY:CONFERENCE -ATELIER \"Marche de présenc et chant du silence\"
DESCRIPTION:Chemins croisés et regards partagés sur la MARCHE et ses
  déclinaisons....\nIsabelle sera présente pour présenter conféren
 ce\" A l'écoute du corps, du coeur et de la nature\" et annimer un at
 elier..\norganisé par Geode\ninfo@geode.be\n\nPour plus d'information
 , aller sur https://epanews.fr/events/conference-atelier-marche-de-pr-
 sencen-chant-du-silence
DTSTART;TZID=Europe/Paris:20111015T093000
DTEND;TZID=Europe/Paris:20111015T170000
CATEGORIES:belgique
LOCATION:BRUXELLES
WEBSITE:http://www.geode.be
URL:http://www.geode.be
CONTACT:
ORGANIZER:Marie Hélene FAURES pour GEODE
ATTACH;FMTTYPE="image/jpeg":http://storage.ning.com/topology/rest/1.0/
 file/get/1662462449?profile=original
ATTENDEE;ROLE=REQ-PARTICIPANT;PARTSTAT=ACCEPTED;RSVP=TRUE;CN="GAUBERT 
 Isabelle":https://epanews.fr/profile/GAUBERTIsabelle
END:VEVENT
END:VCALENDAR
