BEGIN:VCALENDAR
PRODID:NingEventWidget-v1
VERSION:2.0
METHOD:PUBLISH
BEGIN:VTIMEZONE
TZID:Europe/Paris
X-LIC-LOCATION:Europe/Paris
BEGIN:DAYLIGHT
TZOFFSETFROM:+0100
TZOFFSETTO:+0200
TZNAME:CEST
DTSTART:19700329T020000
RRULE:FREQ=YEARLY;BYMONTH=3;BYDAY=-1SU
END:DAYLIGHT
BEGIN:STANDARD
TZOFFSETFROM:+0200
TZOFFSETTO:+0100
TZNAME:CET
DTSTART:19701025T030000
RRULE:FREQ=YEARLY;BYMONTH=10;BYDAY=-1SU
END:STANDARD
END:VTIMEZONE
BEGIN:VEVENT
UID:2485226:Event:2895230
DTSTAMP:20260422T022442Z
SUMMARY:conference atelier Initiation aux chakras
DESCRIPTION:ConfÃ©rence atelier Initiation aux chakras par Gilles Berg
 ougnouxDimanche 26 novembre 2017 de 17h00 Ã  18h30\nPour dÃ©couvrir ou
  approfondir vos connaissances sur les chakras.\nLes thÃ¨mes abordÃ©s 
 seront les suivant :Connaissance des chakras :- Quâ€™est ce que des ch
 akras ?- Leurs fonctions ?- Incidences sur le corps.\nLes Nadis :- Quâ
 €™est ce que les Nadis ?- Leurs fonctions ?Technique de nettoyage des 
 Nadis. (Pratique)\nLa Kundalini :- Quâ€™est ce que la kundalini ?- Sa 
 fonction.Lâ€™ascenseur :- Exercice de ressenti des diffÃ©rents chakras
 .(Pratique)\nParticipation30â‚¬ non adhÃ©rent25â‚¬ adhÃ©rentPlaces lim
 itÃ©es\nRÃ©servationsNadÃ¨ge 06.23.01.35.96larcencieldupartage@gmail.c
 om\nLieu : L'arc en ciel du partage1 rue garanciÃ¨re 11100 narbonnewww
 .larcencieldupartage.org\n\nPour plus d'information, aller sur https:/
 /epanews.fr/events/conference-atelier-initiation-aux-chakras
DTSTART;TZID=Europe/Paris:20171126T170000
DTEND;TZID=Europe/Paris:20171126T183000
CATEGORIES:11
LOCATION:narbonne
WEBSITE:http://www.larcencieldupartage.org
URL:http://www.larcencieldupartage.org
CONTACT:0623013596
ORGANIZER;CN="L'arc en ciel du partage":https://epanews.fr/profile/Lar
 cencieldupartage
ATTACH;FMTTYPE="image/jpeg":http://storage.ning.com/topology/rest/1.0/
 file/get/1663701412?profile=original
ATTENDEE;ROLE=REQ-PARTICIPANT;PARTSTAT=ACCEPTED;RSVP=TRUE;CN="L'arc en
  ciel du partage":https://epanews.fr/profile/Larcencieldupartage
END:VEVENT
END:VCALENDAR
