BEGIN:VCALENDAR
PRODID:NingEventWidget-v1
VERSION:2.0
METHOD:PUBLISH
BEGIN:VTIMEZONE
TZID:Europe/Paris
X-LIC-LOCATION:Europe/Paris
BEGIN:DAYLIGHT
TZOFFSETFROM:+0100
TZOFFSETTO:+0200
TZNAME:CEST
DTSTART:19700329T020000
RRULE:FREQ=YEARLY;BYMONTH=3;BYDAY=-1SU
END:DAYLIGHT
BEGIN:STANDARD
TZOFFSETFROM:+0200
TZOFFSETTO:+0100
TZNAME:CET
DTSTART:19701025T030000
RRULE:FREQ=YEARLY;BYMONTH=10;BYDAY=-1SU
END:STANDARD
END:VTIMEZONE
BEGIN:VEVENT
UID:2485226:Event:253229
DTSTAMP:20260424T032433Z
SUMMARY:ConfÃ©rence ALOE VERA
DESCRIPTION:Vendredi 15 avril Ã  20h aura lieu une confÃ©rence sur les
  bienfaits de l'aloÃ© vÃ©ra\nCette confÃ©rence sera animÃ© par Michel 
 Prost Naturopathe et se dÃ©roulera au Centre Fashion (Centre commercia
 l les Portes du Soleil)\nÃ  Juvignac\nÂ \nVous pouvez venir accompagnÃ
 ©.\nLa confÃ©rence est gratuite, le nombre de place Ã©tant limitÃ©,pen
 sez Ã  reserver au 06 09 15 17 81.\n\nPour plus d'information, aller s
 ur https://epanews.fr/events/conference-aloe-vera
DTSTART;TZID=Europe/Paris:20110415T200000
DTEND;TZID=Europe/Paris:20110415T220000
CATEGORIES:34
LOCATION:MONTPELLIER
WEBSITE:
URL:
CONTACT:06 09 15 17 81
ORGANIZER;CN=Christelle:https://epanews.fr/profile/Christelle
ATTACH;FMTTYPE="image/jpeg":http://storage.ning.com/topology/rest/1.0/
 file/get/1662403320?profile=original
ATTENDEE;ROLE=REQ-PARTICIPANT;PARTSTAT=ACCEPTED;RSVP=TRUE;CN=Christell
 e:https://epanews.fr/profile/Christelle
END:VEVENT
END:VCALENDAR
