BEGIN:VCALENDAR
PRODID:NingEventWidget-v1
VERSION:2.0
METHOD:PUBLISH
BEGIN:VTIMEZONE
TZID:Europe/Paris
X-LIC-LOCATION:Europe/Paris
BEGIN:DAYLIGHT
TZOFFSETFROM:+0100
TZOFFSETTO:+0200
TZNAME:CEST
DTSTART:19700329T020000
RRULE:FREQ=YEARLY;BYMONTH=3;BYDAY=-1SU
END:DAYLIGHT
BEGIN:STANDARD
TZOFFSETFROM:+0200
TZOFFSETTO:+0100
TZNAME:CET
DTSTART:19701025T030000
RRULE:FREQ=YEARLY;BYMONTH=10;BYDAY=-1SU
END:STANDARD
END:VTIMEZONE
BEGIN:VEVENT
UID:2485226:Event:266346
DTSTAMP:20260420T155744Z
SUMMARY:confÃ©rence Ã  Beziers stella femina
DESCRIPTION:Â Â Â Â Â Â Â Â Â Â Â Â  L'Association STELLA FEMINA est h
 eureuse de vous annoncer sa premiÃ¨re activitÃ©Â Â Â Â Â Â Â Â Â Â Â Â
  Â Â Â Â Â Â Â Â Â Â  ConfÃ©rence Â Â Â Â Â Â Â Â  le Jeudi 5 Mai 2011
 , Ã  20h30 ! Â Â Â Â Â Â Â  Au Campanile de BEZIERS ! Â Â Â Â  ( sorti
 e BÃ©ziers EST , Centre hÃ´telier).Â Â Â  Tarif : 3 euros ( pour les a
 dhÃ©rents)Â Â Â Â Â Â Â Â Â Â Â Â  Â 5 euros (pour les non adhÃ©rents)
 Â Â Â Â Â Â Â Â  Â Â  Qu'est ce que Le quantique Le SCIO : un outil de
  demain au service du bien-Ãªtre , disponible aujourd'hui !SCIO: Inter
 face d'opÃ©ration scientifique basÃ©e sur la conscience.prÃ©sentÃ©e pa
 r Danielle Rovira ( praticienne SCIO).Â Â Â Â Â Â Â Â Â Â Â  Qu'est ce
  que l'Energie ?Table ronde autour de ce thÃ©me animÃ©e par Danielle R
 oviraVos ressentis et questions sont les bienvenus !Â Â Â Â Â Â Â Â Â 
 Â Â Â Â Â Â Â Â Â Â Â  et aussi PrÃ©sentation de l'Association STELLA 
 FEMINA !\nhttp://stellafemina.over-blog.com/\n\nPour plus d'informatio
 n, aller sur https://epanews.fr/events/conference-a-beziers-stella
DTSTART;TZID=Europe/Paris:20110505T120000
DTEND;TZID=Europe/Paris:20110505T130000
CATEGORIES:34
LOCATION:Beziers
WEBSITE:http://stellafemina.over-blog.com/
URL:http://stellafemina.over-blog.com/
CONTACT:
ORGANIZER:stellafemina
ATTACH;FMTTYPE="image/jpeg":
ATTENDEE;ROLE=REQ-PARTICIPANT;PARTSTAT=ACCEPTED;RSVP=TRUE;CN=nelly:htt
 ps://epanews.fr/profile/espacenellybl
END:VEVENT
END:VCALENDAR
