BEGIN:VCALENDAR
PRODID:NingEventWidget-v1
VERSION:2.0
METHOD:PUBLISH
BEGIN:VTIMEZONE
TZID:Europe/Paris
X-LIC-LOCATION:Europe/Paris
BEGIN:DAYLIGHT
TZOFFSETFROM:+0100
TZOFFSETTO:+0200
TZNAME:CEST
DTSTART:19700329T020000
RRULE:FREQ=YEARLY;BYMONTH=3;BYDAY=-1SU
END:DAYLIGHT
BEGIN:STANDARD
TZOFFSETFROM:+0200
TZOFFSETTO:+0100
TZNAME:CET
DTSTART:19701025T030000
RRULE:FREQ=YEARLY;BYMONTH=10;BYDAY=-1SU
END:STANDARD
END:VTIMEZONE
BEGIN:VEVENT
UID:2485226:Event:2314971
DTSTAMP:20260422T222433Z
SUMMARY:Confectionner sa trousse de secours pour l'été
DESCRIPTION:Atelier animée par Elodie Vilella, Naturopathe  Participa
 tion 8€ Nombre de places : 8 personnes SVP réserver à l'avance - M
 erci  Rens. 06 75 33 75 86 - evilella.naturopathe@gmail.com http://elo
 dievilella.wix.com/naturopathe-vilella\n\nPour plus d'information, all
 er sur https://epanews.fr/events/confectionner-sa-trousse-de-secours-p
 our-l-t
DTSTART;TZID=Europe/Paris:20150528T193000
DTEND;TZID=Europe/Paris:20150528T210000
CATEGORIES:83
LOCATION:Le Liber'Thé
WEBSITE:https://www.facebook.com/LeLiberThe/events?ref=page_internal
URL:https://www.facebook.com/LeLiberThe/events?ref=page_internal
CONTACT:0695500225
ORGANIZER:Le Liber'Thé
ATTACH;FMTTYPE="image/jpeg":http://storage.ning.com/topology/rest/1.0/
 file/get/1663391026?profile=original
ATTENDEE;ROLE=REQ-PARTICIPANT;PARTSTAT=ACCEPTED;RSVP=TRUE;CN="Alliance
  Art' & Bien-être":https://epanews.fr/profile/AllianceArtBienetre
END:VEVENT
END:VCALENDAR
