BEGIN:VCALENDAR
PRODID:NingEventWidget-v1
VERSION:2.0
METHOD:PUBLISH
BEGIN:VTIMEZONE
TZID:Europe/Paris
X-LIC-LOCATION:Europe/Paris
BEGIN:DAYLIGHT
TZOFFSETFROM:+0100
TZOFFSETTO:+0200
TZNAME:CEST
DTSTART:19700329T020000
RRULE:FREQ=YEARLY;BYMONTH=3;BYDAY=-1SU
END:DAYLIGHT
BEGIN:STANDARD
TZOFFSETFROM:+0200
TZOFFSETTO:+0100
TZNAME:CET
DTSTART:19701025T030000
RRULE:FREQ=YEARLY;BYMONTH=10;BYDAY=-1SU
END:STANDARD
END:VTIMEZONE
BEGIN:VEVENT
UID:2485226:Event:1974353
DTSTAMP:20260421T074613Z
SUMMARY:Conférences
DESCRIPTION:flyersPaimpont.pdf\n\nPour plus d'information, aller sur h
 ttps://epanews.fr/events/conf-rences
DTSTART;TZID=Europe/Paris:20140725T000000
DTEND;TZID=Europe/Paris:20140725T235900
CATEGORIES:35
LOCATION:Paimpont
WEBSITE:
URL:
CONTACT:07 63 31 73 65
ORGANIZER;CN=DanielleLB:https://epanews.fr/profile/DanielleLB
ATTACH;FMTTYPE="image/jpeg":http://storage.ning.com/topology/rest/1.0/
 file/get/1663174935?profile=original
ATTENDEE;ROLE=REQ-PARTICIPANT;PARTSTAT=ACCEPTED;RSVP=TRUE;CN=DanielleL
 B:https://epanews.fr/profile/DanielleLB
END:VEVENT
END:VCALENDAR
