BEGIN:VCALENDAR
PRODID:NingEventWidget-v1
VERSION:2.0
METHOD:PUBLISH
BEGIN:VTIMEZONE
TZID:Europe/Paris
X-LIC-LOCATION:Europe/Paris
BEGIN:DAYLIGHT
TZOFFSETFROM:+0100
TZOFFSETTO:+0200
TZNAME:CEST
DTSTART:19700329T020000
RRULE:FREQ=YEARLY;BYMONTH=3;BYDAY=-1SU
END:DAYLIGHT
BEGIN:STANDARD
TZOFFSETFROM:+0200
TZOFFSETTO:+0100
TZNAME:CET
DTSTART:19701025T030000
RRULE:FREQ=YEARLY;BYMONTH=10;BYDAY=-1SU
END:STANDARD
END:VTIMEZONE
BEGIN:VEVENT
UID:2485226:Event:2978956
DTSTAMP:20260424T171924Z
SUMMARY:ConfÃ©rences thÃ©Ã¢tralisÃ©es ludiques sur nos relations
DESCRIPTION:Cycle de 4 confÃ©rences thÃ©Ã¢tralisÃ©es ludiquesÂ sur nos
  relationsÂ : Comment moins se prendre la tÃªteÂ  avec les autres ?\nU
 ne vÃ©ritable aubaine pour sortir des rÃ©flexes qui compliquent nos re
 lations !\nSoirÃ©es prÃ©sentÃ©es par un duo de choc : un mÃ©diateur pr
 ofessionnel et une comedienne/rigologue explorent les piÃ¨ges invisibl
 es sources de conflits inutiles et proposent des outils concrets utile
 s au quotidien.\nDes soirÃ©es interactives et ludiques plÃ©biscitÃ©es 
 par le public. Suivies dâ€™un pot convivial.\nSam 29/9 : Il est oÃ¹ le
  problÃ¨me ?\nJeudi 18/10 : Ã§a m'Ã©nerve, tu ne m'Ã©coutes pas !\nMer
 c 21/11 : Et si les Ã©motions s'en mÃªlent ?\nJeudi 13/12 : Comment di
 re sans mettre le feu ?\n AnimÃ© par Dominique Proudhon (mÃ©diateur) e
 t Catherine Laurent (comÃ©dienne)\nParticipation : 12â‚¬ / 10â‚¬ (adhÃ
 ©rent) / 7â‚¬ (Demandeur d'emploi / Ã©tudiant) RÃ©servation en ligne s
 ur :Â http://leszateliersdecatherine.frÂ ouÂ 06 16 41 53 63\ncontact@l
 eszateliersdecatherine.fr\nÂ Facebook : Les Z'ateliers de Catherine\nÂ
  \n\nPour plus d'information, aller sur https://epanews.fr/events/conf
 -rences-th-tralis-es-ludiques-sur-nos-relations
DTSTART;TZID=Europe/Paris:20180929T200000
DTEND;TZID=Europe/Paris:20180929T220000
CATEGORIES:30
LOCATION:NIMES
WEBSITE:https://www.google.fr/maps/dir/9+Rue+de+Saint-Gilles,+N%C3%AEm
 es//@43.8310737,4.3543328,16z/data=!3m1!4b1!4m8!4m7!1m5!1m1!1s0x12b42d
 07ca352ddd:0x5d592805496aa07a!2m2!1d4.3587209!2d43.831066!1m0
URL:https://www.google.fr/maps/dir/9+Rue+de+Saint-Gilles,+N%C3%AEmes//
 @43.8310737,4.3543328,16z/data=!3m1!4b1!4m8!4m7!1m5!1m1!1s0x12b42d07ca
 352ddd:0x5d592805496aa07a!2m2!1d4.3587209!2d43.831066!1m0
CONTACT:0616415663
ORGANIZER:Catherine LAURENT
ATTACH;FMTTYPE="image/jpeg":http://storage.ning.com/topology/rest/1.0/
 file/get/1663755875?profile=original
ATTENDEE;ROLE=REQ-PARTICIPANT;PARTSTAT=ACCEPTED;RSVP=TRUE;CN="LAURENT 
 Catherine":https://epanews.fr/profile/LAURENTCatherine
END:VEVENT
END:VCALENDAR
